BEGIN:VCALENDAR
VERSION:2.0
PRODID:-//Big Sky Town Center - ECPv6.7.0//NONSGML v1.0//EN
CALSCALE:GREGORIAN
METHOD:PUBLISH
X-WR-CALNAME:Big Sky Town Center
X-ORIGINAL-URL:https://www.bigskytowncenter.com
X-WR-CALDESC:Events for Big Sky Town Center
REFRESH-INTERVAL;VALUE=DURATION:PT1H
X-Robots-Tag:noindex
X-PUBLISHED-TTL:PT1H
BEGIN:VTIMEZONE
TZID:America/Denver
BEGIN:DAYLIGHT
TZOFFSETFROM:-0700
TZOFFSETTO:-0600
TZNAME:MDT
DTSTART:20240310T090000
END:DAYLIGHT
BEGIN:STANDARD
TZOFFSETFROM:-0600
TZOFFSETTO:-0700
TZNAME:MST
DTSTART:20241103T080000
END:STANDARD
BEGIN:DAYLIGHT
TZOFFSETFROM:-0700
TZOFFSETTO:-0600
TZNAME:MDT
DTSTART:20250309T090000
END:DAYLIGHT
BEGIN:STANDARD
TZOFFSETFROM:-0600
TZOFFSETTO:-0700
TZNAME:MST
DTSTART:20251102T080000
END:STANDARD
END:VTIMEZONE
BEGIN:VEVENT
DTSTART;VALUE=DATE:20250708
DTEND;VALUE=DATE:20250713
DTSTAMP:20260424T071554
CREATED:20250701T153643Z
LAST-MODIFIED:20250701T153643Z
UID:10002423-1751932800-1752364799@www.bigskytowncenter.com
SUMMARY:Grow Wild: Big Sky Wildflower Festival
DESCRIPTION:A Week of Learning\, Creativity\, and Outdoor Exploration. \nHeld in early July at Crail Gardens in Big Sky\, MT\, this festival features expert-led educational talks\, creative workshops by local artists and business owners\, and guided trail experiences—all designed to deepen engagement with the natural world.​
URL:https://www.bigskytowncenter.com/event/grow-wild-big-sky-wildflower-festival/
LOCATION:Crail Gardens\, 2100 Spotted Elk Road\, Big Sky\, MT\, 59716\, United States
CATEGORIES:Community,Culture,Education,Entertainment,Health,Outdoor
ATTACH;FMTTYPE=image/png:https://www.bigskytowncenter.com/wp-content/uploads/2025/07/Screenshot-2025-07-01-at-9.34.57 AM.png
ORGANIZER;CN="Grow Wild MT":MAILTO:info@growwildmt.org
GEO:45.26966;111.29594
X-APPLE-STRUCTURED-LOCATION;VALUE=URI;X-ADDRESS=Crail Gardens 2100 Spotted Elk Road Big Sky MT 59716 United States;X-APPLE-RADIUS=500;X-TITLE=2100 Spotted Elk Road:geo:111.29594,45.26966
END:VEVENT
BEGIN:VEVENT
DTSTART;VALUE=DATE:20240708
DTEND;VALUE=DATE:20240713
DTSTAMP:20260424T071554
CREATED:20240607T204345Z
LAST-MODIFIED:20240612T200753Z
UID:10000645-1720396800-1720828799@www.bigskytowncenter.com
SUMMARY:2024 Big Sky Wildflower Festival
DESCRIPTION:
URL:https://www.bigskytowncenter.com/event/2024-big-sky-wildflower-festival/
LOCATION:Crail Gardens\, 2100 Spotted Elk Road\, Big Sky\, MT\, 59716\, United States
CATEGORIES:Community,Education,Outdoor
ATTACH;FMTTYPE=image/png:https://www.bigskytowncenter.com/wp-content/uploads/2024/06/Screenshot-2024-06-12-at-2.07.35 PM.png
ORGANIZER;CN="Grow Wild MT":MAILTO:info@growwildmt.org
GEO:45.26966;111.29594
X-APPLE-STRUCTURED-LOCATION;VALUE=URI;X-ADDRESS=Crail Gardens 2100 Spotted Elk Road Big Sky MT 59716 United States;X-APPLE-RADIUS=500;X-TITLE=2100 Spotted Elk Road:geo:111.29594,45.26966
END:VEVENT
BEGIN:VEVENT
DTSTART;TZID=America/Denver:20240618T170000
DTEND;TZID=America/Denver:20240618T183000
DTSTAMP:20260424T071554
CREATED:20240605T161532Z
LAST-MODIFIED:20240605T162516Z
UID:10000559-1718730000-1718735400@www.bigskytowncenter.com
SUMMARY:12th Annual Big Sky Community Park Weed Pull
DESCRIPTION:
URL:https://www.bigskytowncenter.com/event/12th-annual-big-sky-community-park-weed-pull/
LOCATION:Big Sky Community Park\, 423 Little Coyote Road\, Big Sky\, MT\, 59716\, United States
CATEGORIES:Community,Outdoor
ATTACH;FMTTYPE=image/png:https://www.bigskytowncenter.com/wp-content/uploads/2024/06/Screenshot-2024-06-05-at-10.10.34 AM.png
ORGANIZER;CN="Grow Wild MT":MAILTO:info@growwildmt.org
END:VEVENT
END:VCALENDAR