BEGIN:VCALENDAR
VERSION:2.0
PRODID:-//Big Sky Town Center - ECPv6.7.0//NONSGML v1.0//EN
CALSCALE:GREGORIAN
METHOD:PUBLISH
X-ORIGINAL-URL:https://www.bigskytowncenter.com
X-WR-CALDESC:Events for Big Sky Town Center
REFRESH-INTERVAL;VALUE=DURATION:PT1H
X-Robots-Tag:noindex
X-PUBLISHED-TTL:PT1H
BEGIN:VTIMEZONE
TZID:America/Denver
BEGIN:DAYLIGHT
TZOFFSETFROM:-0700
TZOFFSETTO:-0600
TZNAME:MDT
DTSTART:20250309T090000
END:DAYLIGHT
BEGIN:STANDARD
TZOFFSETFROM:-0600
TZOFFSETTO:-0700
TZNAME:MST
DTSTART:20251102T080000
END:STANDARD
END:VTIMEZONE
BEGIN:VEVENT
DTSTART;TZID=America/Denver:20250325T160000
DTEND;TZID=America/Denver:20250325T180000
DTSTAMP:20260423T040011
CREATED:20250207T170129Z
LAST-MODIFIED:20250207T170129Z
UID:10002091-1742918400-1742925600@www.bigskytowncenter.com
SUMMARY:Arts Council of Big Sky: Après with the Arts
DESCRIPTION:You’re Invited to Après with the Arts.\n\nThe Arts Council of Big Sky has a new home at 77 Lone Peak Drive (former home of Choppers Grub & Pub). You’re invited to stop by any Tuesday from 4-6pm through April 8 to hear about plans to transform the building into the Big Sky Center for the Arts. This will be a place for YOU\, so please come learn more and share your vision for the arts in Big Sky. For more info\, go to bigskyarts.org. NOTE: Our education team and art classes will still be headquartered at BASE until after the building renovations. 
URL:https://www.bigskytowncenter.com/event/arts-council-of-big-sky-apres-with-the-arts/2025-03-25/
LOCATION:Big Sky Center for the Arts\, 77 Lone Peak Drive\, Big Sky\, MT\, 59716\, United States
CATEGORIES:Community,Culture,Education
ATTACH;FMTTYPE=image/png:https://www.bigskytowncenter.com/wp-content/uploads/2025/02/Apres-with-the-Arts-Poster-e1738947662901.png
ORGANIZER;CN="Arts Council of Big Sky":MAILTO:brian@bigskyarts.org
GEO:45.2599405391;-111.310877036
X-APPLE-STRUCTURED-LOCATION;VALUE=URI;X-ADDRESS=Big Sky Center for the Arts 77 Lone Peak Drive Big Sky MT 59716 United States;X-APPLE-RADIUS=500;X-TITLE=77 Lone Peak Drive:geo:-111.310877036,45.2599405391
END:VEVENT
BEGIN:VEVENT
DTSTART;TZID=America/Denver:20250325T170000
DTEND;TZID=America/Denver:20250325T190000
DTSTAMP:20260423T040011
CREATED:20241231T200710Z
LAST-MODIFIED:20250303T213112Z
UID:10002064-1742922000-1742929200@www.bigskytowncenter.com
SUMMARY:Block 3: The Damn Duo
DESCRIPTION:The local alternative rock group Dammit Lauren! has been making audiences all around Montana groove & rock out since early 2018. Playing primarily original tunes with a few covers\, this trio blends their various backgrounds into a soulful alt rock sound combining elements of pop & jam sessions for a sound that will make anyone want to get up & dance. Guitarist Brian Stumpf & lead vocalist/bassist Lauren Jackson will be coming rockin’ a duo show.
URL:https://www.bigskytowncenter.com/event/block-3-the-damn-duo-2/2025-03-25/
LOCATION:Block 3 Kitchen & Bar\, 145 Town Center Ave.\, Big Sky\, MT\, 59716\, United States
CATEGORIES:Entertainment
END:VEVENT
BEGIN:VEVENT
DTSTART;TZID=America/Denver:20250325T170000
DTEND;TZID=America/Denver:20250325T220000
DTSTAMP:20260423T040011
CREATED:20241230T235525Z
LAST-MODIFIED:20250312T203356Z
UID:10002177-1742922000-1742940000@www.bigskytowncenter.com
SUMMARY:The Waypoint: Bruschetta & Bottles
DESCRIPTION:Mondays and Tuesdays\, join us for Bruschetta &Bottles\, 5pm-close. \nPick your favorite of 3 bruschetta\, and one bottle of wine selection (per order): $35 \nNo Substitutions
URL:https://www.bigskytowncenter.com/event/the-waypoint-bruschetta-bottles/2025-03-25/
LOCATION:The Waypoint\, 50 Ousel Falls Road\, Big Sky\, MT\, 59716\, United States
CATEGORIES:Community,Culture,Entertainment
END:VEVENT
BEGIN:VEVENT
DTSTART;TZID=America/Denver:20250325T173000
DTEND;TZID=America/Denver:20250325T190000
DTSTAMP:20260423T040011
CREATED:20250129T000614Z
LAST-MODIFIED:20250129T000614Z
UID:10002052-1742923800-1742929200@www.bigskytowncenter.com
SUMMARY:Moving Mountains: Holistic Emotional First Aid Class
DESCRIPTION:
URL:https://www.bigskytowncenter.com/event/moving-mountains-holistic-emotional-first-aid-class/2025-03-25/
LOCATION:Moving Mountains\, 245 Town Center Ave #1A\, Big Sky\, MT\, 59716\, United States
ATTACH;FMTTYPE=image/png:https://www.bigskytowncenter.com/wp-content/uploads/2025/01/HolisticEmotionalFirstAid.png
GEO:45.2603424836;-111.302835277
X-APPLE-STRUCTURED-LOCATION;VALUE=URI;X-ADDRESS=Moving Mountains 245 Town Center Ave #1A Big Sky MT 59716 United States;X-APPLE-RADIUS=500;X-TITLE=245 Town Center Ave #1A:geo:-111.302835277,45.2603424836
END:VEVENT
BEGIN:VEVENT
DTSTART;TZID=America/Denver:20250325T190000
DTEND;TZID=America/Denver:20250325T220000
DTSTAMP:20260423T040011
CREATED:20250320T163139Z
LAST-MODIFIED:20250320T163518Z
UID:10002273-1742929200-1742940000@www.bigskytowncenter.com
SUMMARY:The Waypoint: Big Sky Shootout Rerun Party
DESCRIPTION:Join us for a special Shootout Rerun Party on Tuesday\, March 25th at The Big Sky Waypoint. FREE to the community\, this special event will feature select retro Winter Shootout submissions from the last 10 years on the big screen.\n\nShowtime is 7pm\n\nSAVE THE DATE and join us for the 10th Annual Big Sky Winter Shootout Film & Photo Festival on April 3rd. Check here for more info:\nhttps://secondseasonco.com/events
URL:https://www.bigskytowncenter.com/event/the-waypoint-big-sky-shootout-rerun-party/
LOCATION:The Waypoint\, 50 Ousel Falls Road\, Big Sky\, MT\, 59716\, United States
CATEGORIES:Community,Culture,Education,Entertainment,Sports,Health,Outdoor
ATTACH;FMTTYPE=image/jpeg:https://www.bigskytowncenter.com/wp-content/uploads/2025/03/big-sky-winter-shootout-rerun-party-.jpg
END:VEVENT
BEGIN:VEVENT
DTSTART;TZID=America/Denver:20250325T190000
DTEND;TZID=America/Denver:20250325T223000
DTSTAMP:20260423T040011
CREATED:20250219T190903Z
LAST-MODIFIED:20250219T190903Z
UID:10002201-1742929200-1742941800@www.bigskytowncenter.com
SUMMARY:The Waypoint: Big Sky Shootout Pre-Party
DESCRIPTION:
URL:https://www.bigskytowncenter.com/event/the-waypoint-big-sky-shootout-pre-party/
LOCATION:The Waypoint\, 50 Ousel Falls Road\, Big Sky\, MT\, 59716\, United States
CATEGORIES:Entertainment
END:VEVENT
BEGIN:VEVENT
DTSTART;TZID=America/Denver:20250326T120000
DTEND;TZID=America/Denver:20250326T130000
DTSTAMP:20260423T040011
CREATED:20250102T182000Z
LAST-MODIFIED:20260102T201542Z
UID:10001806-1742990400-1742994000@www.bigskytowncenter.com
SUMMARY:Moving Mountains: MTN Mindful
DESCRIPTION:MTN Mindful is a yoga class focused on the connection between mind\, body and breath. This practice supports your nervous system while also building mobility\, strength\, and balance. Please bring your own mat if you are able and meet at Moving Mountains gym at least 5 min prior to the start of class!
URL:https://www.bigskytowncenter.com/event/moving-mountains-mtn-mindful/2025-03-26/
LOCATION:Moving Mountains\, 245 Town Center Ave #1A\, Big Sky\, MT\, 59716\, United States
CATEGORIES:Community,Education,Sports,Health,Outdoor
ATTACH;FMTTYPE=image/png:https://www.bigskytowncenter.com/wp-content/uploads/2025/01/Copy-Of-Yoga-Poster-Winter-Landscape-1080-x-800-px-_C009DCCE-A3ED-3156-03C1A8AB1743BFAB_c0189487-ebe7-1102-4d318fa130d7859d.png
GEO:45.2603424836;-111.302835277
X-APPLE-STRUCTURED-LOCATION;VALUE=URI;X-ADDRESS=Moving Mountains 245 Town Center Ave #1A Big Sky MT 59716 United States;X-APPLE-RADIUS=500;X-TITLE=245 Town Center Ave #1A:geo:-111.302835277,45.2603424836
END:VEVENT
BEGIN:VEVENT
DTSTART;TZID=America/Denver:20250326T170000
DTEND;TZID=America/Denver:20250326T190000
DTSTAMP:20260423T040011
CREATED:20241231T200440Z
LAST-MODIFIED:20250303T212855Z
UID:10002068-1743008400-1743015600@www.bigskytowncenter.com
SUMMARY:Block 3: Chandler Huntley
DESCRIPTION:South Carolina native W.C. Huntley is a singer/songwriter & guitarist currently based in Bozeman\, Montana. By combining his Travis-picking guitar style and soulful country voice\, W.C. provides the listener with a unique take on traditional Country & Western music.
URL:https://www.bigskytowncenter.com/event/block-3-chandler-huntley-2/2025-03-26/
LOCATION:Block 3 Kitchen & Bar\, 145 Town Center Ave.\, Big Sky\, MT\, 59716\, United States
CATEGORIES:Entertainment
END:VEVENT
BEGIN:VEVENT
DTSTART;TZID=America/Denver:20250326T180000
DTEND;TZID=America/Denver:20250326T190000
DTSTAMP:20260423T040011
CREATED:20250312T165827Z
LAST-MODIFIED:20250312T165827Z
UID:10002238-1743012000-1743015600@www.bigskytowncenter.com
SUMMARY:BASE: Intro to Climbing
DESCRIPTION:
URL:https://www.bigskytowncenter.com/event/base-intro-to-climbing/2025-03-26/
LOCATION:BASE\, 285 Simkins\, Big Sky\, MT\, 59716\, United States
CATEGORIES:Community,Culture,Education,Sports,Health,Outdoor
ATTACH;FMTTYPE=image/png:https://www.bigskytowncenter.com/wp-content/uploads/2025/03/March-Climbing-Programs-Social-1.png
ORGANIZER;CN="Big Sky Community Organization":MAILTO:bsco@bsco.org
END:VEVENT
BEGIN:VEVENT
DTSTART;TZID=America/Denver:20250326T190000
DTEND;TZID=America/Denver:20250326T203000
DTSTAMP:20260423T040011
CREATED:20250312T170007Z
LAST-MODIFIED:20250312T170007Z
UID:10002242-1743015600-1743021000@www.bigskytowncenter.com
SUMMARY:BASE: Intermediate/Advanced Climbing
DESCRIPTION:
URL:https://www.bigskytowncenter.com/event/base-intermediate-advanced-climbing/2025-03-26/
LOCATION:BASE\, 285 Simkins\, Big Sky\, MT\, 59716\, United States
CATEGORIES:Community,Culture,Education,Entertainment,Sports,Health,Outdoor
ATTACH;FMTTYPE=image/png:https://www.bigskytowncenter.com/wp-content/uploads/2025/03/March-Climbing-Programs-Social.png
ORGANIZER;CN="Big Sky Community Organization":MAILTO:bsco@bsco.org
END:VEVENT
BEGIN:VEVENT
DTSTART;TZID=America/Denver:20250326T190000
DTEND;TZID=America/Denver:20250326T210000
DTSTAMP:20260423T040011
CREATED:20241002T215026Z
LAST-MODIFIED:20250415T175729Z
UID:10002182-1743015600-1743022800@www.bigskytowncenter.com
SUMMARY:The Waypoint: Trivia Night
DESCRIPTION:Join us every Wednesday for trivia starting at 7pm
URL:https://www.bigskytowncenter.com/event/the-waypoint-trivia-night-2/2025-03-26/
LOCATION:The Waypoint\, 50 Ousel Falls Road\, Big Sky\, MT\, 59716\, United States
CATEGORIES:Entertainment
END:VEVENT
BEGIN:VEVENT
DTSTART;TZID=America/Denver:20250327T170000
DTEND;TZID=America/Denver:20250327T190000
DTSTAMP:20260423T040011
CREATED:20241231T200142Z
LAST-MODIFIED:20250313T173622Z
UID:10002072-1743094800-1743102000@www.bigskytowncenter.com
SUMMARY:Block 3: Wes Urbaniak
DESCRIPTION:Wes Urbaniak and the Mountain Folk is a genre bending band\, but the roots always pull up like folk music and continues to progress through the simplicity of strings\, harmonies\, and foundational lyrics.
URL:https://www.bigskytowncenter.com/event/block-3-wes-urbaniak/2025-03-27/
LOCATION:Block 3 Kitchen & Bar\, 145 Town Center Ave.\, Big Sky\, MT\, 59716\, United States
CATEGORIES:Entertainment
END:VEVENT
BEGIN:VEVENT
DTSTART;TZID=America/Denver:20250327T173000
DTEND;TZID=America/Denver:20250327T203000
DTSTAMP:20260423T040011
CREATED:20250219T191104Z
LAST-MODIFIED:20250219T191105Z
UID:10002202-1743096600-1743107400@www.bigskytowncenter.com
SUMMARY:The Waypoint: 2025 Fly Fishing Film Tour
DESCRIPTION:The 19th annual FLY FISHING FILM TOUR (F3T) will visit Big Sky\, Montana from 5:30 – 8:30 PM\, Thursday\, March 27th at The Waypoint\, hosted by Gallatin River Task Force. \nThe night will start at 5:30 with a presentation from FWP Fisheries Biologist Keith Wellstone on the health of trout populations in the Gallatin and the work the state is doing to better understand population dynamics on the Gallatin. Following the presentation\, a Q&A will take place and then the films will start around 6:30. Join us for a collection of short films highlighting all the things we love about fishing\, showcasing unique storytelling and beautiful locations. More information can be found about this years films on the F3T website. \nThe night will include food\, drinks\, and raffle prizes courtesty of the F3T team and our sponsors! We hope to see you on March 27th! Want to the help the Task Force celebrate 25 years of protecting the Gallatin? Make an additional donation here. \nBUY TICKETS
URL:https://www.bigskytowncenter.com/event/the-waypoint-2025-fly-fishing-film-tour/
LOCATION:The Waypoint\, 50 Ousel Falls Road\, Big Sky\, MT\, 59716\, United States
CATEGORIES:Entertainment,Sports,Outdoor
END:VEVENT
BEGIN:VEVENT
DTSTART;TZID=America/Denver:20250328T160000
DTEND;TZID=America/Denver:20250328T220000
DTSTAMP:20260423T040011
CREATED:20250219T191222Z
LAST-MODIFIED:20250219T191222Z
UID:10002203-1743177600-1743199200@www.bigskytowncenter.com
SUMMARY:The Waypoint: March Madness: Sweet Sixteen
DESCRIPTION:
URL:https://www.bigskytowncenter.com/event/the-waypoint-march-madness-sweet-sixteen/
LOCATION:The Waypoint\, 50 Ousel Falls Road\, Big Sky\, MT\, 59716\, United States
CATEGORIES:Entertainment,Sports
END:VEVENT
BEGIN:VEVENT
DTSTART;TZID=America/Denver:20250328T170000
DTEND;TZID=America/Denver:20250328T190000
DTSTAMP:20260423T040011
CREATED:20250128T170055Z
LAST-MODIFIED:20250128T170438Z
UID:10002045-1743181200-1743188400@www.bigskytowncenter.com
SUMMARY:The Wilson Lobby: Jazz Night
DESCRIPTION:Come hear the best in local jazz with Alex Robilotta (guitar)\, Michael Steele (bass)\, Adam Greenberg (drums).
URL:https://www.bigskytowncenter.com/event/the-wilson-lobby-jazz-night/2025-03-28/
LOCATION:The Wilson\, 145 Town Center Avenue\, Big Sky\, MT\, 59716\, United States
CATEGORIES:Entertainment
ORGANIZER;CN="Arts Council of Big Sky":MAILTO:brian@bigskyarts.org
END:VEVENT
BEGIN:VEVENT
DTSTART;TZID=America/Denver:20250328T183000
DTEND;TZID=America/Denver:20250328T203000
DTSTAMP:20260423T040011
CREATED:20250219T191258Z
LAST-MODIFIED:20250219T191258Z
UID:10002204-1743186600-1743193800@www.bigskytowncenter.com
SUMMARY:The Waypoint: Kent Johnson
DESCRIPTION:
URL:https://www.bigskytowncenter.com/event/the-waypoint-kent-johnson-5/
LOCATION:The Waypoint\, 50 Ousel Falls Road\, Big Sky\, MT\, 59716\, United States
CATEGORIES:Entertainment
END:VEVENT
BEGIN:VEVENT
DTSTART;TZID=America/Denver:20250328T220000
DTEND;TZID=America/Denver:20250328T233000
DTSTAMP:20260423T040011
CREATED:20241118T191606Z
LAST-MODIFIED:20250312T202837Z
UID:10002076-1743199200-1743204600@www.bigskytowncenter.com
SUMMARY:The Waypoint: Winter Karaoke
DESCRIPTION:Sing your favorite tunes with us at Winter Karaoke\, Fridays at 10pm.
URL:https://www.bigskytowncenter.com/event/the-waypoint-winter-karaoke/2025-03-28/
LOCATION:The Waypoint\, 50 Ousel Falls Road\, Big Sky\, MT\, 59716\, United States
CATEGORIES:Entertainment
END:VEVENT
BEGIN:VEVENT
DTSTART;TZID=America/Denver:20250329T160000
DTEND;TZID=America/Denver:20250329T220000
DTSTAMP:20260423T040011
CREATED:20250219T191446Z
LAST-MODIFIED:20250219T191446Z
UID:10002205-1743264000-1743285600@www.bigskytowncenter.com
SUMMARY:The Waypoint: March Madness: Elite Eight
DESCRIPTION:
URL:https://www.bigskytowncenter.com/event/the-waypoint-march-madness-elite-eight/2025-03-29/
LOCATION:The Waypoint\, 50 Ousel Falls Road\, Big Sky\, MT\, 59716\, United States
CATEGORIES:Entertainment,Sports
END:VEVENT
BEGIN:VEVENT
DTSTART;TZID=America/Denver:20250330T160000
DTEND;TZID=America/Denver:20250330T220000
DTSTAMP:20260423T040011
CREATED:20241003T150720Z
LAST-MODIFIED:20250715T183942Z
UID:10002169-1743350400-1743372000@www.bigskytowncenter.com
SUMMARY:The Waypoint: Dinner and a Movie
DESCRIPTION:Come enjoy dinner at the Waypoint on Sundays and receive one movie ticket and concession drink per entrée ordered.
URL:https://www.bigskytowncenter.com/event/the-waypoint-dinner-and-a-movie/2025-03-30/
LOCATION:The Waypoint\, 50 Ousel Falls Road\, Big Sky\, MT\, 59716\, United States
CATEGORIES:Entertainment
END:VEVENT
BEGIN:VEVENT
DTSTART;TZID=America/Denver:20250330T160000
DTEND;TZID=America/Denver:20250330T220000
DTSTAMP:20260423T040011
CREATED:20250219T191446Z
LAST-MODIFIED:20250219T191446Z
UID:10002206-1743350400-1743372000@www.bigskytowncenter.com
SUMMARY:The Waypoint: March Madness: Elite Eight
DESCRIPTION:
URL:https://www.bigskytowncenter.com/event/the-waypoint-march-madness-elite-eight/2025-03-30/
LOCATION:The Waypoint\, 50 Ousel Falls Road\, Big Sky\, MT\, 59716\, United States
CATEGORIES:Entertainment,Sports
END:VEVENT
BEGIN:VEVENT
DTSTART;TZID=America/Denver:20250331T170000
DTEND;TZID=America/Denver:20250331T220000
DTSTAMP:20260423T040011
CREATED:20241230T235525Z
LAST-MODIFIED:20250312T203356Z
UID:10002178-1743440400-1743458400@www.bigskytowncenter.com
SUMMARY:The Waypoint: Bruschetta & Bottles
DESCRIPTION:Mondays and Tuesdays\, join us for Bruschetta &Bottles\, 5pm-close. \nPick your favorite of 3 bruschetta\, and one bottle of wine selection (per order): $35 \nNo Substitutions
URL:https://www.bigskytowncenter.com/event/the-waypoint-bruschetta-bottles/2025-03-31/
LOCATION:The Waypoint\, 50 Ousel Falls Road\, Big Sky\, MT\, 59716\, United States
CATEGORIES:Community,Culture,Entertainment
END:VEVENT
BEGIN:VEVENT
DTSTART;VALUE=DATE:20250401
DTEND;VALUE=DATE:20250402
DTSTAMP:20260423T040011
CREATED:20250328T181128Z
LAST-MODIFIED:20250328T181215Z
UID:10002274-1743465600-1743551999@www.bigskytowncenter.com
SUMMARY:Big Sky Artists’ Studio & Gallery: Escapes to Yellowstone - Paintings by Alicia Pearson & The World Travel Painter - Paintings by Marquies Hill
DESCRIPTION:April at the Big Sky Artists Studio & Gallery in the Town Center brings new paintings from 2 emerging artists in the Big Sky Artists Collective: “Escapes to Yellowstone” by Alicia Pearson and “The World Travel Painter” by Marquies Hill \nThe FIRST FRIDAY opening of the show will be on Friday\, April 4th from 5 – 7pm. Locals and visitors are welcome to join us for Sips and Bits. It’s a great chance to meet the artists and members of the Big Sky Artists Collective and to see art from local artists and photographers. \nThe Big Sky Artists’ Studio and Gallery and many other merchants in the Town Center will be open on the FIRST FRIDAY of every month throughout the year from 5Pm till 7 or 8PM. The Studio & Gallery will always have a new show opening on the First Friday and other merchants also plan to have something special that evening. \nThe Big Sky Artists’ Studio & Gallery is owned and operated by the members of the Big Sky Artists Collective. New work from members is rotated and featured throughout the year. When you purchase from the Studio & Gallery you are buying original art and supporting local artists from the Big Sky area.
URL:https://www.bigskytowncenter.com/event/big-sky-artists-studio-gallery-escapes-to-yellowstone-paintings-by-alicia-pearson-the-world-travel-painter-paintings-by-marquies-hill/
LOCATION:Big Sky Artists’ Studio & Gallery\, 88 Ousel Falls Road\, Big Sky\, MT\, 59716\, United States
CATEGORIES:Community,Culture,Education,Entertainment
ATTACH;FMTTYPE=image/png:https://www.bigskytowncenter.com/wp-content/uploads/2025/03/AprilShowcase_BigSkyArtistsCollective.png
END:VEVENT
BEGIN:VEVENT
DTSTART;TZID=America/Denver:20250401T083000
DTEND;TZID=America/Denver:20250401T100000
DTSTAMP:20260423T040011
CREATED:20250317T145558Z
LAST-MODIFIED:20250317T145558Z
UID:10002272-1743496200-1743501600@www.bigskytowncenter.com
SUMMARY:The Wilson Hotel: Breakfast in Big Sky
DESCRIPTION:Building a healthier Big Sky: Join the @bigskychamber for a morning with Bozeman Health CEO\, Dr. Kathryn Bertany.Get the inside scoop on exciting new services and doctors. Learn all the ways Bozeman Health is enhancing our community’s well-being. Register today! Breakfast in Big Sky
URL:https://www.bigskytowncenter.com/event/the-wilson-hotel-breakfast-in-big-sky/
LOCATION:The Wilson\, 145 Town Center Avenue\, Big Sky\, MT\, 59716\, United States
CATEGORIES:Community,Education,Health
ATTACH;FMTTYPE=image/png:https://www.bigskytowncenter.com/wp-content/uploads/2025/03/3.15-Breakfast-in-Big-Sky.png
ORGANIZER;CN="Big Sky Chamber of Commerce":MAILTO:info@bigskychamber.com
END:VEVENT
BEGIN:VEVENT
DTSTART;TZID=America/Denver:20250401T160000
DTEND;TZID=America/Denver:20250401T180000
DTSTAMP:20260423T040011
CREATED:20250207T170129Z
LAST-MODIFIED:20250207T170129Z
UID:10002092-1743523200-1743530400@www.bigskytowncenter.com
SUMMARY:Arts Council of Big Sky: Après with the Arts
DESCRIPTION:You’re Invited to Après with the Arts.\n\nThe Arts Council of Big Sky has a new home at 77 Lone Peak Drive (former home of Choppers Grub & Pub). You’re invited to stop by any Tuesday from 4-6pm through April 8 to hear about plans to transform the building into the Big Sky Center for the Arts. This will be a place for YOU\, so please come learn more and share your vision for the arts in Big Sky. For more info\, go to bigskyarts.org. NOTE: Our education team and art classes will still be headquartered at BASE until after the building renovations. 
URL:https://www.bigskytowncenter.com/event/arts-council-of-big-sky-apres-with-the-arts/2025-04-01/
LOCATION:Big Sky Center for the Arts\, 77 Lone Peak Drive\, Big Sky\, MT\, 59716\, United States
CATEGORIES:Community,Culture,Education
ATTACH;FMTTYPE=image/png:https://www.bigskytowncenter.com/wp-content/uploads/2025/02/Apres-with-the-Arts-Poster-e1738947662901.png
ORGANIZER;CN="Arts Council of Big Sky":MAILTO:brian@bigskyarts.org
GEO:45.2599405391;-111.310877036
X-APPLE-STRUCTURED-LOCATION;VALUE=URI;X-ADDRESS=Big Sky Center for the Arts 77 Lone Peak Drive Big Sky MT 59716 United States;X-APPLE-RADIUS=500;X-TITLE=77 Lone Peak Drive:geo:-111.310877036,45.2599405391
END:VEVENT
BEGIN:VEVENT
DTSTART;TZID=America/Denver:20250401T170000
DTEND;TZID=America/Denver:20250401T190000
DTSTAMP:20260423T040011
CREATED:20241231T200710Z
LAST-MODIFIED:20250303T213112Z
UID:10002223-1743526800-1743534000@www.bigskytowncenter.com
SUMMARY:Block 3: The Damn Duo
DESCRIPTION:The local alternative rock group Dammit Lauren! has been making audiences all around Montana groove & rock out since early 2018. Playing primarily original tunes with a few covers\, this trio blends their various backgrounds into a soulful alt rock sound combining elements of pop & jam sessions for a sound that will make anyone want to get up & dance. Guitarist Brian Stumpf & lead vocalist/bassist Lauren Jackson will be coming rockin’ a duo show.
URL:https://www.bigskytowncenter.com/event/block-3-the-damn-duo-2/2025-04-01/
LOCATION:Block 3 Kitchen & Bar\, 145 Town Center Ave.\, Big Sky\, MT\, 59716\, United States
CATEGORIES:Entertainment
END:VEVENT
BEGIN:VEVENT
DTSTART;TZID=America/Denver:20250401T170000
DTEND;TZID=America/Denver:20250401T220000
DTSTAMP:20260423T040011
CREATED:20241230T235525Z
LAST-MODIFIED:20250312T203356Z
UID:10002247-1743526800-1743544800@www.bigskytowncenter.com
SUMMARY:The Waypoint: Bruschetta & Bottles
DESCRIPTION:Mondays and Tuesdays\, join us for Bruschetta &Bottles\, 5pm-close. \nPick your favorite of 3 bruschetta\, and one bottle of wine selection (per order): $35 \nNo Substitutions
URL:https://www.bigskytowncenter.com/event/the-waypoint-bruschetta-bottles/2025-04-01/
LOCATION:The Waypoint\, 50 Ousel Falls Road\, Big Sky\, MT\, 59716\, United States
CATEGORIES:Community,Culture,Entertainment
END:VEVENT
BEGIN:VEVENT
DTSTART;TZID=America/Denver:20250402T120000
DTEND;TZID=America/Denver:20250402T130000
DTSTAMP:20260423T040011
CREATED:20250102T182000Z
LAST-MODIFIED:20260102T201542Z
UID:10001807-1743595200-1743598800@www.bigskytowncenter.com
SUMMARY:Moving Mountains: MTN Mindful
DESCRIPTION:MTN Mindful is a yoga class focused on the connection between mind\, body and breath. This practice supports your nervous system while also building mobility\, strength\, and balance. Please bring your own mat if you are able and meet at Moving Mountains gym at least 5 min prior to the start of class!
URL:https://www.bigskytowncenter.com/event/moving-mountains-mtn-mindful/2025-04-02/
LOCATION:Moving Mountains\, 245 Town Center Ave #1A\, Big Sky\, MT\, 59716\, United States
CATEGORIES:Community,Education,Sports,Health,Outdoor
ATTACH;FMTTYPE=image/png:https://www.bigskytowncenter.com/wp-content/uploads/2025/01/Copy-Of-Yoga-Poster-Winter-Landscape-1080-x-800-px-_C009DCCE-A3ED-3156-03C1A8AB1743BFAB_c0189487-ebe7-1102-4d318fa130d7859d.png
GEO:45.2603424836;-111.302835277
X-APPLE-STRUCTURED-LOCATION;VALUE=URI;X-ADDRESS=Moving Mountains 245 Town Center Ave #1A Big Sky MT 59716 United States;X-APPLE-RADIUS=500;X-TITLE=245 Town Center Ave #1A:geo:-111.302835277,45.2603424836
END:VEVENT
BEGIN:VEVENT
DTSTART;TZID=America/Denver:20250402T170000
DTEND;TZID=America/Denver:20250402T190000
DTSTAMP:20260423T040011
CREATED:20241231T200440Z
LAST-MODIFIED:20250303T212855Z
UID:10002224-1743613200-1743620400@www.bigskytowncenter.com
SUMMARY:Block 3: Chandler Huntley
DESCRIPTION:South Carolina native W.C. Huntley is a singer/songwriter & guitarist currently based in Bozeman\, Montana. By combining his Travis-picking guitar style and soulful country voice\, W.C. provides the listener with a unique take on traditional Country & Western music.
URL:https://www.bigskytowncenter.com/event/block-3-chandler-huntley-2/2025-04-02/
LOCATION:Block 3 Kitchen & Bar\, 145 Town Center Ave.\, Big Sky\, MT\, 59716\, United States
CATEGORIES:Entertainment
END:VEVENT
BEGIN:VEVENT
DTSTART;TZID=America/Denver:20250402T183000
DTEND;TZID=America/Denver:20250402T203000
DTSTAMP:20260423T040011
CREATED:20250331T162235Z
LAST-MODIFIED:20250331T162236Z
UID:10002276-1743618600-1743625800@www.bigskytowncenter.com
SUMMARY:Warren Miler Performing Arts Center: Grease: The Musical
DESCRIPTION:With a hip-shaking rock ’n’ roll score featuring hits like “Summer Nights\,” “Greased Lightnin’” and “We Go Together\,” Grease celebrates Rydell High’s class of 1959 in all their duck-tailed\, bobby-soxed\, gum-snapping glory.\n\n\n\n\n\n\n\n\n\n\nThe Annual High School Spring Musical \nThe costumes! The dancing! The songs! Grease\, the Musical comes to the Warren Miller Performing Arts Center for our community’s spring high school musical\, the not-to-be-missed annual event before spring break comes and ski season winds down. This 1970s classic set in the 1950s is a throw-back to drag racing\, sock hops and drive in movies with a score of favorite songs like Greased Lightning\,’ “Hand-Jive” and “We Go Together.” Sure to be a sell out; locals have been asking for this show for over a decade. \nPlease Note \nThis musical (like the movie you and your kids have watched on television) has a minor plot line around teenage pregnancy and characters who smoke\, drink\,  lightly swear\, and the existence (or non-existence) of sex is a significant plot line although easy to miss with all the be-bopping and jive on stage. Make your decision about bringing your kids accordingly. The 1978 movie was rated PG. \nNight One \n\n\nSandy: Addy Malinowski \nMarty: Libby Coltea \nFrenchie: Hanna Mittelstaedt \nJan: Elise Daugherty \nRizzo: Harper Morris \nPatty: Ursula Blyth \nMiss Lynch: Maren Sigourney \n\nNight Two\n\nSandy: Frieda Fabozzi \nMarty: Eva Mitchell \nFrenchie: Hazel Buotte \nJan: Anna Masonic \nRizzo: Marley Schack \nPatty: Maren Sigourney \nMiss Lynch: Ursula Blyth
URL:https://www.bigskytowncenter.com/event/warren-miler-performing-arts-center-grease-the-musical/2025-04-02/
LOCATION:Warren Miller Performing Arts Center\, 45465 Gallatin Road\, Gallatin Gateway\, MT\, 59730\, United States
CATEGORIES:Community,Culture,Education,Entertainment
ATTACH;FMTTYPE=image/png:https://www.bigskytowncenter.com/wp-content/uploads/2025/03/Grease_TheMusical.png
GEO:45.2293888345;-111.25157895
X-APPLE-STRUCTURED-LOCATION;VALUE=URI;X-ADDRESS=Warren Miller Performing Arts Center 45465 Gallatin Road Gallatin Gateway MT 59730 United States;X-APPLE-RADIUS=500;X-TITLE=45465 Gallatin Road:geo:-111.25157895,45.2293888345
END:VEVENT
BEGIN:VEVENT
DTSTART;TZID=America/Denver:20250402T190000
DTEND;TZID=America/Denver:20250402T210000
DTSTAMP:20260423T040011
CREATED:20241002T215026Z
LAST-MODIFIED:20250415T175729Z
UID:10002256-1743620400-1743627600@www.bigskytowncenter.com
SUMMARY:The Waypoint: Trivia Night
DESCRIPTION:Join us every Wednesday for trivia starting at 7pm
URL:https://www.bigskytowncenter.com/event/the-waypoint-trivia-night-2/2025-04-02/
LOCATION:The Waypoint\, 50 Ousel Falls Road\, Big Sky\, MT\, 59716\, United States
CATEGORIES:Entertainment
END:VEVENT
END:VCALENDAR