BEGIN:VCALENDAR
VERSION:2.0
PRODID:-//Big Sky Town Center - ECPv6.7.0//NONSGML v1.0//EN
CALSCALE:GREGORIAN
METHOD:PUBLISH
X-WR-CALNAME:Big Sky Town Center
X-ORIGINAL-URL:https://www.bigskytowncenter.com
X-WR-CALDESC:Events for Big Sky Town Center
REFRESH-INTERVAL;VALUE=DURATION:PT1H
X-Robots-Tag:noindex
X-PUBLISHED-TTL:PT1H
BEGIN:VTIMEZONE
TZID:America/Denver
BEGIN:DAYLIGHT
TZOFFSETFROM:-0700
TZOFFSETTO:-0600
TZNAME:MDT
DTSTART:20260308T090000
END:DAYLIGHT
BEGIN:STANDARD
TZOFFSETFROM:-0600
TZOFFSETTO:-0700
TZNAME:MST
DTSTART:20261101T080000
END:STANDARD
END:VTIMEZONE
BEGIN:VEVENT
DTSTART;TZID=America/Denver:20260202T200000
DTEND;TZID=America/Denver:20260202T220000
DTSTAMP:20260424T074755
CREATED:20260128T171009Z
LAST-MODIFIED:20260128T171009Z
UID:10002930-1770062400-1770069600@www.bigskytowncenter.com
SUMMARY:Len Hill Park Ice Rink: Gays on Blades Under the Sea
DESCRIPTION:
URL:https://www.bigskytowncenter.com/event/len-hill-park-ice-rink-gays-on-blades-under-the-sea/
LOCATION:Len Hill Park\, 285 Simkins Dr.\, Big Sky\, MT\, 59716\, United States
CATEGORIES:Community,Culture,Entertainment,Sports,Health,Outdoor
ATTACH;FMTTYPE=image/png:https://www.bigskytowncenter.com/wp-content/uploads/2026/01/Screenshot-2026-01-28-at-10.09.48-AM.png
ORGANIZER;CN="Big Sky Out":MAILTO:hi@bigskyout.org
GEO:45.2593603797;-111.30964739
X-APPLE-STRUCTURED-LOCATION;VALUE=URI;X-ADDRESS=Len Hill Park 285 Simkins Dr. Big Sky MT 59716 United States;X-APPLE-RADIUS=500;X-TITLE=285 Simkins Dr.:geo:-111.30964739,45.2593603797
END:VEVENT
BEGIN:VEVENT
DTSTART;TZID=America/Denver:20260213T180000
DTEND;TZID=America/Denver:20260213T210000
DTSTAMP:20260424T074755
CREATED:20260202T164531Z
LAST-MODIFIED:20260202T164531Z
UID:10002934-1771005600-1771016400@www.bigskytowncenter.com
SUMMARY:Buck's Roadhouse: Annual Gold Medal Ski Ball
DESCRIPTION:
URL:https://www.bigskytowncenter.com/event/bucks-roadhouse-annual-gold-medal-ski-ball/
LOCATION:Buck’s\, 46625 Gallatin Road\, Big Sky\, MT\, 59716\, United States
CATEGORIES:Community,Culture,Entertainment,Sports,Health,Outdoor
ATTACH;FMTTYPE=image/jpeg:https://www.bigskytowncenter.com/wp-content/uploads/2026/02/tempImageStJLlD.jpg
GEO:45.2454947031;-111.251841086
X-APPLE-STRUCTURED-LOCATION;VALUE=URI;X-ADDRESS=Buck’s 46625 Gallatin Road Big Sky MT 59716 United States;X-APPLE-RADIUS=500;X-TITLE=46625 Gallatin Road:geo:-111.251841086,45.2454947031
END:VEVENT
BEGIN:VEVENT
DTSTART;TZID=America/Denver:20260227T100000
DTEND;TZID=America/Denver:20260228T160000
DTSTAMP:20260424T074755
CREATED:20260113T191126Z
LAST-MODIFIED:20260113T191126Z
UID:10002913-1772186400-1772294400@www.bigskytowncenter.com
SUMMARY:Moonlight Basin: F.A.T Ice Race
DESCRIPTION:FAT Ice Race is heading back across the pond — and this time\, we’re taking on Big Sky! \nFrom the legendary frozen airway in Zell am See to the snow-covered fairways of Montana’s Moonlight Basin\, the adventure continues stateside. \nFeb 27 – 28\, 2026\n10AM – 4PM \nGET YOUR FAT ICE RACE TICKET HERE
URL:https://www.bigskytowncenter.com/event/moonlight-basin-f-a-t-ice-race/
LOCATION:MT
CATEGORIES:Community,Culture,Entertainment,Sports,Outdoor
ATTACH;FMTTYPE=image/avif:https://www.bigskytowncenter.com/wp-content/uploads/2026/01/dac70151b0c65e9c4c7447b3b648fd6ea2133bd0-2122x3200.jpg-2.avif
END:VEVENT
END:VCALENDAR