BEGIN:VCALENDAR
VERSION:2.0
PRODID:-//Big Sky Town Center - ECPv6.7.0//NONSGML v1.0//EN
CALSCALE:GREGORIAN
METHOD:PUBLISH
X-WR-CALNAME:Big Sky Town Center
X-ORIGINAL-URL:https://www.bigskytowncenter.com
X-WR-CALDESC:Events for Big Sky Town Center
REFRESH-INTERVAL;VALUE=DURATION:PT1H
X-Robots-Tag:noindex
X-PUBLISHED-TTL:PT1H
BEGIN:VTIMEZONE
TZID:America/Denver
BEGIN:DAYLIGHT
TZOFFSETFROM:-0700
TZOFFSETTO:-0600
TZNAME:MDT
DTSTART:20260308T090000
END:DAYLIGHT
BEGIN:STANDARD
TZOFFSETFROM:-0600
TZOFFSETTO:-0700
TZNAME:MST
DTSTART:20261101T080000
END:STANDARD
END:VTIMEZONE
BEGIN:VEVENT
DTSTART;TZID=America/Denver:20260805T170000
DTEND;TZID=America/Denver:20260805T200000
DTSTAMP:20260423T062054
CREATED:20260421T170958Z
LAST-MODIFIED:20260421T170958Z
UID:10003125-1785949200-1785960000@www.bigskytowncenter.com
SUMMARY:Big Sky Town Center: 2026 Big Sky Farmer's Market
DESCRIPTION:Experience one of the most beloved summer traditions in Big Sky. Every Wednesday evening from June through September\, Town Center comes alive with 100+ local and regional vendors\, offering everything from fresh Montana-grown produce and handcrafted goods to delicious eats and live music. \nStroll\, shop\, and soak in the energy of a vibrant mountain community gathering—where neighbors connect\, families unwind\, and visitors get a true taste of Big Sky’s unique culture. For more information about all that Big Sky Farmer’s Market has to offer\, please visit the website below.
URL:https://www.bigskytowncenter.com/event/big-sky-town-center-2026-big-sky-farmers-market/2026-08-05/
LOCATION:Town Center\, 33 Lone Peak Drive\, Big Sky\, MT\, 59716\, United States
CATEGORIES:Community,Culture,Education,Entertainment,Health,Outdoor
ATTACH;FMTTYPE=image/png:https://www.bigskytowncenter.com/wp-content/uploads/2026/04/bigskyfarmersmarket_logo.png
END:VEVENT
BEGIN:VEVENT
DTSTART;TZID=America/Denver:20260806T180000
DTEND;TZID=America/Denver:20260806T220000
DTSTAMP:20260423T062054
CREATED:20260330T165227Z
LAST-MODIFIED:20260331T144327Z
UID:10003091-1786039200-1786053600@www.bigskytowncenter.com
SUMMARY:2026 Music in the Mountains: Magoo with Emerging Artist Blue Point
DESCRIPTION:Magoo website HERE
URL:https://www.bigskytowncenter.com/event/2026-music-in-the-mountains-magoo-with-emerging-artist-blue-point/
LOCATION:Len Hill Park\, 285 Simkins Dr.\, Big Sky\, MT\, 59716\, United States
CATEGORIES:Community,Culture,Entertainment,Outdoor
ATTACH;FMTTYPE=image/png:https://www.bigskytowncenter.com/wp-content/uploads/2026/03/Photo-Mar-30-2026-3-16-22-PM.png
ORGANIZER;CN="Arts Council of Big Sky":MAILTO:brian@bigskyarts.org
GEO:45.2593603797;-111.30964739
X-APPLE-STRUCTURED-LOCATION;VALUE=URI;X-ADDRESS=Len Hill Park 285 Simkins Dr. Big Sky MT 59716 United States;X-APPLE-RADIUS=500;X-TITLE=285 Simkins Dr.:geo:-111.30964739,45.2593603797
END:VEVENT
BEGIN:VEVENT
DTSTART;TZID=America/Denver:20260812T170000
DTEND;TZID=America/Denver:20260812T200000
DTSTAMP:20260423T062054
CREATED:20260421T170958Z
LAST-MODIFIED:20260421T170958Z
UID:10003126-1786554000-1786564800@www.bigskytowncenter.com
SUMMARY:Big Sky Town Center: 2026 Big Sky Farmer's Market
DESCRIPTION:Experience one of the most beloved summer traditions in Big Sky. Every Wednesday evening from June through September\, Town Center comes alive with 100+ local and regional vendors\, offering everything from fresh Montana-grown produce and handcrafted goods to delicious eats and live music. \nStroll\, shop\, and soak in the energy of a vibrant mountain community gathering—where neighbors connect\, families unwind\, and visitors get a true taste of Big Sky’s unique culture. For more information about all that Big Sky Farmer’s Market has to offer\, please visit the website below.
URL:https://www.bigskytowncenter.com/event/big-sky-town-center-2026-big-sky-farmers-market/2026-08-12/
LOCATION:Town Center\, 33 Lone Peak Drive\, Big Sky\, MT\, 59716\, United States
CATEGORIES:Community,Culture,Education,Entertainment,Health,Outdoor
ATTACH;FMTTYPE=image/png:https://www.bigskytowncenter.com/wp-content/uploads/2026/04/bigskyfarmersmarket_logo.png
END:VEVENT
BEGIN:VEVENT
DTSTART;TZID=America/Denver:20260813T180000
DTEND;TZID=America/Denver:20260813T220000
DTSTAMP:20260423T062054
CREATED:20260330T165419Z
LAST-MODIFIED:20260330T165419Z
UID:10003092-1786644000-1786658400@www.bigskytowncenter.com
SUMMARY:2026 Music in the Mountains: Mother Hips with Emerging Artist Lee Rafugee
DESCRIPTION:Mother Hips website HERE
URL:https://www.bigskytowncenter.com/event/2026-music-in-the-mountains-mother-hips-with-emerging-artist-lee-rafugee/
LOCATION:Len Hill Park\, 285 Simkins Dr.\, Big Sky\, MT\, 59716\, United States
CATEGORIES:Community,Culture,Entertainment,Outdoor
ATTACH;FMTTYPE=image/png:https://www.bigskytowncenter.com/wp-content/uploads/2026/03/12.png
ORGANIZER;CN="Arts Council of Big Sky":MAILTO:brian@bigskyarts.org
GEO:45.2593603797;-111.30964739
X-APPLE-STRUCTURED-LOCATION;VALUE=URI;X-ADDRESS=Len Hill Park 285 Simkins Dr. Big Sky MT 59716 United States;X-APPLE-RADIUS=500;X-TITLE=285 Simkins Dr.:geo:-111.30964739,45.2593603797
END:VEVENT
BEGIN:VEVENT
DTSTART;TZID=America/Denver:20260819T170000
DTEND;TZID=America/Denver:20260819T200000
DTSTAMP:20260423T062054
CREATED:20260421T170958Z
LAST-MODIFIED:20260421T170958Z
UID:10003127-1787158800-1787169600@www.bigskytowncenter.com
SUMMARY:Big Sky Town Center: 2026 Big Sky Farmer's Market
DESCRIPTION:Experience one of the most beloved summer traditions in Big Sky. Every Wednesday evening from June through September\, Town Center comes alive with 100+ local and regional vendors\, offering everything from fresh Montana-grown produce and handcrafted goods to delicious eats and live music. \nStroll\, shop\, and soak in the energy of a vibrant mountain community gathering—where neighbors connect\, families unwind\, and visitors get a true taste of Big Sky’s unique culture. For more information about all that Big Sky Farmer’s Market has to offer\, please visit the website below.
URL:https://www.bigskytowncenter.com/event/big-sky-town-center-2026-big-sky-farmers-market/2026-08-19/
LOCATION:Town Center\, 33 Lone Peak Drive\, Big Sky\, MT\, 59716\, United States
CATEGORIES:Community,Culture,Education,Entertainment,Health,Outdoor
ATTACH;FMTTYPE=image/png:https://www.bigskytowncenter.com/wp-content/uploads/2026/04/bigskyfarmersmarket_logo.png
END:VEVENT
BEGIN:VEVENT
DTSTART;TZID=America/Denver:20260820T180000
DTEND;TZID=America/Denver:20260820T220000
DTSTAMP:20260423T062054
CREATED:20260330T165554Z
LAST-MODIFIED:20260330T165555Z
UID:10003093-1787248800-1787263200@www.bigskytowncenter.com
SUMMARY:2026 Music in the Mountains: Object Heavy with Emerging Artist Jazz Cabbage
DESCRIPTION:Object Heavy website HERE
URL:https://www.bigskytowncenter.com/event/2026-music-in-the-mountains-object-heavy-with-emerging-artist-jazz-cabbage/
LOCATION:Len Hill Park\, 285 Simkins Dr.\, Big Sky\, MT\, 59716\, United States
CATEGORIES:Community,Culture,Entertainment,Outdoor
ATTACH;FMTTYPE=image/png:https://www.bigskytowncenter.com/wp-content/uploads/2026/03/13.png
ORGANIZER;CN="Arts Council of Big Sky":MAILTO:brian@bigskyarts.org
GEO:45.2593603797;-111.30964739
X-APPLE-STRUCTURED-LOCATION;VALUE=URI;X-ADDRESS=Len Hill Park 285 Simkins Dr. Big Sky MT 59716 United States;X-APPLE-RADIUS=500;X-TITLE=285 Simkins Dr.:geo:-111.30964739,45.2593603797
END:VEVENT
BEGIN:VEVENT
DTSTART;TZID=America/Denver:20260826T170000
DTEND;TZID=America/Denver:20260826T200000
DTSTAMP:20260423T062054
CREATED:20260421T170958Z
LAST-MODIFIED:20260421T170958Z
UID:10003128-1787763600-1787774400@www.bigskytowncenter.com
SUMMARY:Big Sky Town Center: 2026 Big Sky Farmer's Market
DESCRIPTION:Experience one of the most beloved summer traditions in Big Sky. Every Wednesday evening from June through September\, Town Center comes alive with 100+ local and regional vendors\, offering everything from fresh Montana-grown produce and handcrafted goods to delicious eats and live music. \nStroll\, shop\, and soak in the energy of a vibrant mountain community gathering—where neighbors connect\, families unwind\, and visitors get a true taste of Big Sky’s unique culture. For more information about all that Big Sky Farmer’s Market has to offer\, please visit the website below.
URL:https://www.bigskytowncenter.com/event/big-sky-town-center-2026-big-sky-farmers-market/2026-08-26/
LOCATION:Town Center\, 33 Lone Peak Drive\, Big Sky\, MT\, 59716\, United States
CATEGORIES:Community,Culture,Education,Entertainment,Health,Outdoor
ATTACH;FMTTYPE=image/png:https://www.bigskytowncenter.com/wp-content/uploads/2026/04/bigskyfarmersmarket_logo.png
END:VEVENT
BEGIN:VEVENT
DTSTART;TZID=America/Denver:20260827T180000
DTEND;TZID=America/Denver:20260827T220000
DTSTAMP:20260423T062054
CREATED:20260330T165756Z
LAST-MODIFIED:20260330T165756Z
UID:10003094-1787853600-1787868000@www.bigskytowncenter.com
SUMMARY:2026 Music in the Mountains: Armchair Boogie with Emerging Artist Logan Liebert and the Light Blue
DESCRIPTION:Armchair Boogie website HERE
URL:https://www.bigskytowncenter.com/event/2026-music-in-the-mountains-armchair-boogie-with-emerging-artist-logan-liebert-and-the-light-blue/
LOCATION:Len Hill Park\, 285 Simkins Dr.\, Big Sky\, MT\, 59716\, United States
CATEGORIES:Community,Culture,Entertainment,Outdoor
ATTACH;FMTTYPE=image/png:https://www.bigskytowncenter.com/wp-content/uploads/2026/03/14.png
ORGANIZER;CN="Arts Council of Big Sky":MAILTO:brian@bigskyarts.org
GEO:45.2593603797;-111.30964739
X-APPLE-STRUCTURED-LOCATION;VALUE=URI;X-ADDRESS=Len Hill Park 285 Simkins Dr. Big Sky MT 59716 United States;X-APPLE-RADIUS=500;X-TITLE=285 Simkins Dr.:geo:-111.30964739,45.2593603797
END:VEVENT
BEGIN:VEVENT
DTSTART;TZID=America/Denver:20260902T170000
DTEND;TZID=America/Denver:20260902T200000
DTSTAMP:20260423T062054
CREATED:20260421T170958Z
LAST-MODIFIED:20260421T170958Z
UID:10003129-1788368400-1788379200@www.bigskytowncenter.com
SUMMARY:Big Sky Town Center: 2026 Big Sky Farmer's Market
DESCRIPTION:Experience one of the most beloved summer traditions in Big Sky. Every Wednesday evening from June through September\, Town Center comes alive with 100+ local and regional vendors\, offering everything from fresh Montana-grown produce and handcrafted goods to delicious eats and live music. \nStroll\, shop\, and soak in the energy of a vibrant mountain community gathering—where neighbors connect\, families unwind\, and visitors get a true taste of Big Sky’s unique culture. For more information about all that Big Sky Farmer’s Market has to offer\, please visit the website below.
URL:https://www.bigskytowncenter.com/event/big-sky-town-center-2026-big-sky-farmers-market/2026-09-02/
LOCATION:Town Center\, 33 Lone Peak Drive\, Big Sky\, MT\, 59716\, United States
CATEGORIES:Community,Culture,Education,Entertainment,Health,Outdoor
ATTACH;FMTTYPE=image/png:https://www.bigskytowncenter.com/wp-content/uploads/2026/04/bigskyfarmersmarket_logo.png
END:VEVENT
BEGIN:VEVENT
DTSTART;TZID=America/Denver:20260903T180000
DTEND;TZID=America/Denver:20260903T220000
DTSTAMP:20260423T062054
CREATED:20260330T165933Z
LAST-MODIFIED:20260331T152020Z
UID:10003095-1788458400-1788472800@www.bigskytowncenter.com
SUMMARY:2026 Music in the Mountains: Iron Maidens with Emerging Artist Scavenger
DESCRIPTION:Iron Maidens website HERE
URL:https://www.bigskytowncenter.com/event/2026-music-in-the-mountains-iron-maidens-with-emerging-artist-scavenger/
LOCATION:Len Hill Park\, 285 Simkins Dr.\, Big Sky\, MT\, 59716\, United States
CATEGORIES:Community,Culture,Entertainment,Outdoor
ATTACH;FMTTYPE=image/png:https://www.bigskytowncenter.com/wp-content/uploads/2026/03/MitM-Release-Post-1.png
ORGANIZER;CN="Arts Council of Big Sky":MAILTO:brian@bigskyarts.org
GEO:45.2593603797;-111.30964739
X-APPLE-STRUCTURED-LOCATION;VALUE=URI;X-ADDRESS=Len Hill Park 285 Simkins Dr. Big Sky MT 59716 United States;X-APPLE-RADIUS=500;X-TITLE=285 Simkins Dr.:geo:-111.30964739,45.2593603797
END:VEVENT
BEGIN:VEVENT
DTSTART;TZID=America/Denver:20260909T170000
DTEND;TZID=America/Denver:20260909T200000
DTSTAMP:20260423T062054
CREATED:20260421T170958Z
LAST-MODIFIED:20260421T170958Z
UID:10003130-1788973200-1788984000@www.bigskytowncenter.com
SUMMARY:Big Sky Town Center: 2026 Big Sky Farmer's Market
DESCRIPTION:Experience one of the most beloved summer traditions in Big Sky. Every Wednesday evening from June through September\, Town Center comes alive with 100+ local and regional vendors\, offering everything from fresh Montana-grown produce and handcrafted goods to delicious eats and live music. \nStroll\, shop\, and soak in the energy of a vibrant mountain community gathering—where neighbors connect\, families unwind\, and visitors get a true taste of Big Sky’s unique culture. For more information about all that Big Sky Farmer’s Market has to offer\, please visit the website below.
URL:https://www.bigskytowncenter.com/event/big-sky-town-center-2026-big-sky-farmers-market/2026-09-09/
LOCATION:Town Center\, 33 Lone Peak Drive\, Big Sky\, MT\, 59716\, United States
CATEGORIES:Community,Culture,Education,Entertainment,Health,Outdoor
ATTACH;FMTTYPE=image/png:https://www.bigskytowncenter.com/wp-content/uploads/2026/04/bigskyfarmersmarket_logo.png
END:VEVENT
BEGIN:VEVENT
DTSTART;TZID=America/Denver:20260916T170000
DTEND;TZID=America/Denver:20260916T200000
DTSTAMP:20260423T062054
CREATED:20260421T170958Z
LAST-MODIFIED:20260421T170958Z
UID:10003131-1789578000-1789588800@www.bigskytowncenter.com
SUMMARY:Big Sky Town Center: 2026 Big Sky Farmer's Market
DESCRIPTION:Experience one of the most beloved summer traditions in Big Sky. Every Wednesday evening from June through September\, Town Center comes alive with 100+ local and regional vendors\, offering everything from fresh Montana-grown produce and handcrafted goods to delicious eats and live music. \nStroll\, shop\, and soak in the energy of a vibrant mountain community gathering—where neighbors connect\, families unwind\, and visitors get a true taste of Big Sky’s unique culture. For more information about all that Big Sky Farmer’s Market has to offer\, please visit the website below.
URL:https://www.bigskytowncenter.com/event/big-sky-town-center-2026-big-sky-farmers-market/2026-09-16/
LOCATION:Town Center\, 33 Lone Peak Drive\, Big Sky\, MT\, 59716\, United States
CATEGORIES:Community,Culture,Education,Entertainment,Health,Outdoor
ATTACH;FMTTYPE=image/png:https://www.bigskytowncenter.com/wp-content/uploads/2026/04/bigskyfarmersmarket_logo.png
END:VEVENT
BEGIN:VEVENT
DTSTART;VALUE=DATE:20260917
DTEND;VALUE=DATE:20260921
DTSTAMP:20260423T062054
CREATED:20260408T170955Z
LAST-MODIFIED:20260408T170955Z
UID:10003112-1789603200-1789948799@www.bigskytowncenter.com
SUMMARY:2026 Lone Peak Film Festival
DESCRIPTION:2026 Schedule Coming Soon \n\n\nThe film submission deadline is April 30th\, 2026. Following that\, we will announce the event schedule\, ticket and pass purchase options\, and more! \nUntil then — hug a filmmaker!
URL:https://www.bigskytowncenter.com/event/2026-lone-peak-film-festival/
LOCATION:The Waypoint\, 50 Ousel Falls Road\, Big Sky\, MT\, 59716\, United States
CATEGORIES:Community,Culture,Education,Entertainment,Sports,Health,Outdoor
ATTACH;FMTTYPE=image/png:https://www.bigskytowncenter.com/wp-content/uploads/2026/04/Screenshot-2026-04-08-at-11.07.55-AM.png
END:VEVENT
BEGIN:VEVENT
DTSTART;TZID=America/Denver:20260923T170000
DTEND;TZID=America/Denver:20260923T200000
DTSTAMP:20260423T062054
CREATED:20260421T170958Z
LAST-MODIFIED:20260421T170958Z
UID:10003132-1790182800-1790193600@www.bigskytowncenter.com
SUMMARY:Big Sky Town Center: 2026 Big Sky Farmer's Market
DESCRIPTION:Experience one of the most beloved summer traditions in Big Sky. Every Wednesday evening from June through September\, Town Center comes alive with 100+ local and regional vendors\, offering everything from fresh Montana-grown produce and handcrafted goods to delicious eats and live music. \nStroll\, shop\, and soak in the energy of a vibrant mountain community gathering—where neighbors connect\, families unwind\, and visitors get a true taste of Big Sky’s unique culture. For more information about all that Big Sky Farmer’s Market has to offer\, please visit the website below.
URL:https://www.bigskytowncenter.com/event/big-sky-town-center-2026-big-sky-farmers-market/2026-09-23/
LOCATION:Town Center\, 33 Lone Peak Drive\, Big Sky\, MT\, 59716\, United States
CATEGORIES:Community,Culture,Education,Entertainment,Health,Outdoor
ATTACH;FMTTYPE=image/png:https://www.bigskytowncenter.com/wp-content/uploads/2026/04/bigskyfarmersmarket_logo.png
END:VEVENT
BEGIN:VEVENT
DTSTART;TZID=America/Denver:20260930T170000
DTEND;TZID=America/Denver:20260930T200000
DTSTAMP:20260423T062054
CREATED:20260421T170958Z
LAST-MODIFIED:20260421T170958Z
UID:10003133-1790787600-1790798400@www.bigskytowncenter.com
SUMMARY:Big Sky Town Center: 2026 Big Sky Farmer's Market
DESCRIPTION:Experience one of the most beloved summer traditions in Big Sky. Every Wednesday evening from June through September\, Town Center comes alive with 100+ local and regional vendors\, offering everything from fresh Montana-grown produce and handcrafted goods to delicious eats and live music. \nStroll\, shop\, and soak in the energy of a vibrant mountain community gathering—where neighbors connect\, families unwind\, and visitors get a true taste of Big Sky’s unique culture. For more information about all that Big Sky Farmer’s Market has to offer\, please visit the website below.
URL:https://www.bigskytowncenter.com/event/big-sky-town-center-2026-big-sky-farmers-market/2026-09-30/
LOCATION:Town Center\, 33 Lone Peak Drive\, Big Sky\, MT\, 59716\, United States
CATEGORIES:Community,Culture,Education,Entertainment,Health,Outdoor
ATTACH;FMTTYPE=image/png:https://www.bigskytowncenter.com/wp-content/uploads/2026/04/bigskyfarmersmarket_logo.png
END:VEVENT
END:VCALENDAR