BEGIN:VCALENDAR
VERSION:2.0
PRODID:-//Big Sky Town Center - ECPv6.7.0//NONSGML v1.0//EN
CALSCALE:GREGORIAN
METHOD:PUBLISH
X-WR-CALNAME:Big Sky Town Center
X-ORIGINAL-URL:https://www.bigskytowncenter.com
X-WR-CALDESC:Events for Big Sky Town Center
REFRESH-INTERVAL;VALUE=DURATION:PT1H
X-Robots-Tag:noindex
X-PUBLISHED-TTL:PT1H
BEGIN:VTIMEZONE
TZID:America/Denver
BEGIN:DAYLIGHT
TZOFFSETFROM:-0700
TZOFFSETTO:-0600
TZNAME:MDT
DTSTART:20260308T090000
END:DAYLIGHT
BEGIN:STANDARD
TZOFFSETFROM:-0600
TZOFFSETTO:-0700
TZNAME:MST
DTSTART:20261101T080000
END:STANDARD
END:VTIMEZONE
BEGIN:VEVENT
DTSTART;TZID=America/Denver:20260617T170000
DTEND;TZID=America/Denver:20260617T200000
DTSTAMP:20260423T091353
CREATED:20260421T170958Z
LAST-MODIFIED:20260421T170958Z
UID:10003118-1781715600-1781726400@www.bigskytowncenter.com
SUMMARY:Big Sky Town Center: 2026 Big Sky Farmer's Market
DESCRIPTION:Experience one of the most beloved summer traditions in Big Sky. Every Wednesday evening from June through September\, Town Center comes alive with 100+ local and regional vendors\, offering everything from fresh Montana-grown produce and handcrafted goods to delicious eats and live music. \nStroll\, shop\, and soak in the energy of a vibrant mountain community gathering—where neighbors connect\, families unwind\, and visitors get a true taste of Big Sky’s unique culture. For more information about all that Big Sky Farmer’s Market has to offer\, please visit the website below.
URL:https://www.bigskytowncenter.com/event/big-sky-town-center-2026-big-sky-farmers-market/2026-06-17/
LOCATION:Town Center\, 33 Lone Peak Drive\, Big Sky\, MT\, 59716\, United States
CATEGORIES:Community,Culture,Education,Entertainment,Health,Outdoor
ATTACH;FMTTYPE=image/png:https://www.bigskytowncenter.com/wp-content/uploads/2026/04/bigskyfarmersmarket_logo.png
END:VEVENT
END:VCALENDAR