BEGIN:VCALENDAR
VERSION:2.0
PRODID:-//Big Sky Town Center - ECPv6.7.0//NONSGML v1.0//EN
CALSCALE:GREGORIAN
METHOD:PUBLISH
X-ORIGINAL-URL:https://www.bigskytowncenter.com
X-WR-CALDESC:Events for Big Sky Town Center
REFRESH-INTERVAL;VALUE=DURATION:PT1H
X-Robots-Tag:noindex
X-PUBLISHED-TTL:PT1H
BEGIN:VTIMEZONE
TZID:America/Denver
BEGIN:DAYLIGHT
TZOFFSETFROM:-0700
TZOFFSETTO:-0600
TZNAME:MDT
DTSTART:20260308T090000
END:DAYLIGHT
BEGIN:STANDARD
TZOFFSETFROM:-0600
TZOFFSETTO:-0700
TZNAME:MST
DTSTART:20261101T080000
END:STANDARD
END:VTIMEZONE
BEGIN:VEVENT
DTSTART;TZID=America/Denver:20260505T160000
DTEND;TZID=America/Denver:20260505T193000
DTSTAMP:20260423T081756
CREATED:20260417T151353Z
LAST-MODIFIED:20260417T151353Z
UID:10003114-1777996800-1778009400@www.bigskytowncenter.com
SUMMARY:Arts Council of Big Sky: Cinco De Mayo
DESCRIPTION:Join us for a vibrant and family-friendly Cinco de Mayo celebration at the Big Sky Center for the Arts. This community gathering brings people together to celebrate and learn more about Hispanic and American traditions while welcoming the spring season. \nEnjoy an evening filled with music\, movement\, and hands-on activities for all ages. Dance along to live music by DJ QueenE\, with optional dance lessons led by local instructors. Savor festive food and take part in a mockarita tasting\, adding to the celebratory atmosphere. \nKids can get creative with piñata making\, filling their creations with wishes and positive thoughts for the community. The evening will also feature a traditional fiesta piñata filled with candy for everyone to enjoy. \nWhether you come to dance\, connect\, or simply celebrate\, this event is a joyful way to experience culture\, community\, and creativity together.
URL:https://www.bigskytowncenter.com/event/arts-council-of-big-sky-cinco-de-mayo/
LOCATION:Big Sky Center for the Arts\, 77 Lone Peak Drive\, Big Sky\, MT\, 59716\, United States
CATEGORIES:Community,Culture,Entertainment,Outdoor
ATTACH;FMTTYPE=image/jpeg:https://www.bigskytowncenter.com/wp-content/uploads/2026/04/26-cinco-de-mayo-ig-1080.png.jpeg
ORGANIZER;CN="Arts Council of Big Sky":MAILTO:brian@bigskyarts.org
GEO:45.2599405391;-111.310877036
X-APPLE-STRUCTURED-LOCATION;VALUE=URI;X-ADDRESS=Big Sky Center for the Arts 77 Lone Peak Drive Big Sky MT 59716 United States;X-APPLE-RADIUS=500;X-TITLE=77 Lone Peak Drive:geo:-111.310877036,45.2599405391
END:VEVENT
END:VCALENDAR