BEGIN:VCALENDAR
VERSION:2.0
PRODID:-//Big Sky Town Center - ECPv6.7.0//NONSGML v1.0//EN
CALSCALE:GREGORIAN
METHOD:PUBLISH
X-ORIGINAL-URL:https://www.bigskytowncenter.com
X-WR-CALDESC:Events for Big Sky Town Center
REFRESH-INTERVAL;VALUE=DURATION:PT1H
X-Robots-Tag:noindex
X-PUBLISHED-TTL:PT1H
BEGIN:VTIMEZONE
TZID:America/Denver
BEGIN:DAYLIGHT
TZOFFSETFROM:-0700
TZOFFSETTO:-0600
TZNAME:MDT
DTSTART:20260308T090000
END:DAYLIGHT
BEGIN:STANDARD
TZOFFSETFROM:-0600
TZOFFSETTO:-0700
TZNAME:MST
DTSTART:20261101T080000
END:STANDARD
END:VTIMEZONE
BEGIN:VEVENT
DTSTART;TZID=America/Denver:20260312T180000
DTEND;TZID=America/Denver:20260312T210000
DTSTAMP:20260423T040148
CREATED:20260206T194746Z
LAST-MODIFIED:20260206T194746Z
UID:10002959-1773338400-1773349200@www.bigskytowncenter.com
SUMMARY:The Waypoint: Fly Fishing Film Tour
DESCRIPTION:Featuring films from all over the world\, including some in our own backyard\, the Fly Fishing Film Tour (F3T) lineup spotlights wild places\, inspiring conservation stories\, and the dedicated individuals who breathe fly fishing. Proceeds from the event go to support the Gallatin River Task Force and our ongoing Gallatin River Restoration project to restore stretches of the Gallatin impacted by heavy recreation. Including a raffle for an opportunity to win prizes from Skida\, Bedrock Sandals\, and more. More information and tickets available here.
URL:https://www.bigskytowncenter.com/event/the-waypoint-fly-fishing-film-tour/
LOCATION:The Waypoint\, 50 Ousel Falls Road\, Big Sky\, MT\, 59716\, United States
CATEGORIES:Community,Culture,Education,Entertainment,Sports,Health,Outdoor
ATTACH;FMTTYPE=image/jpeg:https://www.bigskytowncenter.com/wp-content/uploads/2026/02/Hosted-by-scaled-e1770407245795.jpg
ORGANIZER;CN="Gallatin River Task Force":MAILTO:headwaters@gallatinrivertaskforce.org
END:VEVENT
END:VCALENDAR