BEGIN:VCALENDAR
VERSION:2.0
PRODID:-//Big Sky Town Center - ECPv6.7.0//NONSGML v1.0//EN
CALSCALE:GREGORIAN
METHOD:PUBLISH
X-WR-CALNAME:Big Sky Town Center
X-ORIGINAL-URL:https://www.bigskytowncenter.com
X-WR-CALDESC:Events for Big Sky Town Center
REFRESH-INTERVAL;VALUE=DURATION:PT1H
X-Robots-Tag:noindex
X-PUBLISHED-TTL:PT1H
BEGIN:VTIMEZONE
TZID:America/Denver
BEGIN:DAYLIGHT
TZOFFSETFROM:-0700
TZOFFSETTO:-0600
TZNAME:MDT
DTSTART:20260308T090000
END:DAYLIGHT
BEGIN:STANDARD
TZOFFSETFROM:-0600
TZOFFSETTO:-0700
TZNAME:MST
DTSTART:20261101T080000
END:STANDARD
END:VTIMEZONE
BEGIN:VEVENT
DTSTART;VALUE=DATE:20260201
DTEND;VALUE=DATE:20260202
DTSTAMP:20260423T040836
CREATED:20260205T171009Z
LAST-MODIFIED:20260205T171009Z
UID:10002956-1769904000-1769990399@www.bigskytowncenter.com
SUMMARY:All February at Big Sky Artists' Studio & Gallery: Wild Winter
DESCRIPTION:In 2026\, in addition to our permanent artists\, the Big Sky Artists’ Studio & Gallery is also showing paintings and photographs from 8 emerging artists who are members of the Big Sky Artists Collective. \nThe February show\, “WILD WINTER” highlights the wildlife that abounds in and around Big Sky. “Fox Peaking Over the Snow” by Patty Bauchman was the Jan-Feb cover for Montana Outdoors’ 45thAnnual Photo issue\, and is one of the many pieces currently on display that brings this theme to life. \nThe gallery hangs new work at the beginning of each month also hosting a First Friday on the month event where we stay open later. Come join us this Friday\, February 6 from 5 – 7pm to see new “Wild Winter” work and meet some of our artists. We look forward to sharing new work each month!
URL:https://www.bigskytowncenter.com/event/all-february-at-big-sky-artists-studio-gallery-wild-winter/
LOCATION:Big Sky Artists’ Studio & Gallery\, 88 Ousel Falls Road\, Big Sky\, MT\, 59716\, United States
CATEGORIES:Community,Culture,Education,Outdoor
ATTACH;FMTTYPE=image/png:https://www.bigskytowncenter.com/wp-content/uploads/2026/02/Screenshot-2026-02-05-at-10.09.44-AM.png
ORGANIZER;CN="Big Sky Artists Collective":MAILTO:bigskyartistscollective@gmail.com
END:VEVENT
BEGIN:VEVENT
DTSTART;TZID=America/Denver:20260202T200000
DTEND;TZID=America/Denver:20260202T220000
DTSTAMP:20260423T040836
CREATED:20260128T171009Z
LAST-MODIFIED:20260128T171009Z
UID:10002930-1770062400-1770069600@www.bigskytowncenter.com
SUMMARY:Len Hill Park Ice Rink: Gays on Blades Under the Sea
DESCRIPTION:
URL:https://www.bigskytowncenter.com/event/len-hill-park-ice-rink-gays-on-blades-under-the-sea/
LOCATION:Len Hill Park\, 285 Simkins Dr.\, Big Sky\, MT\, 59716\, United States
CATEGORIES:Community,Culture,Entertainment,Sports,Health,Outdoor
ATTACH;FMTTYPE=image/png:https://www.bigskytowncenter.com/wp-content/uploads/2026/01/Screenshot-2026-01-28-at-10.09.48-AM.png
ORGANIZER;CN="Big Sky Out":MAILTO:hi@bigskyout.org
GEO:45.2593603797;-111.30964739
X-APPLE-STRUCTURED-LOCATION;VALUE=URI;X-ADDRESS=Len Hill Park 285 Simkins Dr. Big Sky MT 59716 United States;X-APPLE-RADIUS=500;X-TITLE=285 Simkins Dr.:geo:-111.30964739,45.2593603797
END:VEVENT
BEGIN:VEVENT
DTSTART;TZID=America/Denver:20260206T170000
DTEND;TZID=America/Denver:20260206T190000
DTSTAMP:20260423T040836
CREATED:20260205T171242Z
LAST-MODIFIED:20260205T171243Z
UID:10002957-1770397200-1770404400@www.bigskytowncenter.com
SUMMARY:Big Sky Artists' Studio & Gallery: First Friday Meet The Members Reception
DESCRIPTION:In 2026\, in addition to our permanent artists\, the Big Sky Artists’ Studio & Gallery is also showing paintings and photographs from 8 emerging artists who are members of the Big Sky Artists Collective. \nThe February show\, “WILD WINTER” highlights the wildlife that abounds in and around Big Sky. “Fox Peaking Over the Snow” by Patty Bauchman was the Jan-Feb cover for Montana Outdoors’ 45thAnnual Photo issue\, and is one of the many pieces currently on display that brings this theme to life. The gallery hangs new work at the beginning of each month also hosting a First Friday on the month event where we stay open later. \nCome join us this Friday\, February 6th from 5 – 7pm to see new “Wild Winter” work and meet some of our artists. We look forward to sharing new work each month!
URL:https://www.bigskytowncenter.com/event/big-sky-artists-studio-gallery-first-friday-meet-the-members-reception-8/
LOCATION:Big Sky Artists’ Studio & Gallery\, 88 Ousel Falls Road\, Big Sky\, MT\, 59716\, United States
CATEGORIES:Community,Culture,Education,Entertainment,Outdoor
ATTACH;FMTTYPE=image/png:https://www.bigskytowncenter.com/wp-content/uploads/2026/02/Screenshot-2026-02-05-at-10.09.44-AM.png
ORGANIZER;CN="Big Sky Artists Collective":MAILTO:bigskyartistscollective@gmail.com
END:VEVENT
BEGIN:VEVENT
DTSTART;TZID=America/Denver:20260213T180000
DTEND;TZID=America/Denver:20260213T210000
DTSTAMP:20260423T040836
CREATED:20260202T164531Z
LAST-MODIFIED:20260202T164531Z
UID:10002934-1771005600-1771016400@www.bigskytowncenter.com
SUMMARY:Buck's Roadhouse: Annual Gold Medal Ski Ball
DESCRIPTION:
URL:https://www.bigskytowncenter.com/event/bucks-roadhouse-annual-gold-medal-ski-ball/
LOCATION:Buck’s\, 46625 Gallatin Road\, Big Sky\, MT\, 59716\, United States
CATEGORIES:Community,Culture,Entertainment,Sports,Health,Outdoor
ATTACH;FMTTYPE=image/jpeg:https://www.bigskytowncenter.com/wp-content/uploads/2026/02/tempImageStJLlD.jpg
GEO:45.2454947031;-111.251841086
X-APPLE-STRUCTURED-LOCATION;VALUE=URI;X-ADDRESS=Buck’s 46625 Gallatin Road Big Sky MT 59716 United States;X-APPLE-RADIUS=500;X-TITLE=46625 Gallatin Road:geo:-111.251841086,45.2454947031
END:VEVENT
BEGIN:VEVENT
DTSTART;TZID=America/Denver:20260226T160000
DTEND;TZID=America/Denver:20260226T190000
DTSTAMP:20260423T040836
CREATED:20260225T215143Z
LAST-MODIFIED:20260225T215144Z
UID:10002964-1772121600-1772132400@www.bigskytowncenter.com
SUMMARY:Town Center: Big Sky\, Fat Cars
DESCRIPTION:Expect a rare and curated collection of cars\, great music\, good vibes\, and a selection of delicious food & drinks. We invite you to join the fattest car meet-up in Big Sky. You’re welcome to bring your own ride. \n**Free admission\, no registration required.
URL:https://www.bigskytowncenter.com/event/town-center-big-sky-fat-cars/
LOCATION:Town Center\, 33 Lone Peak Drive\, Big Sky\, MT\, 59716\, United States
CATEGORIES:Community,Culture,Entertainment,Outdoor
ATTACH;FMTTYPE=image/png:https://www.bigskytowncenter.com/wp-content/uploads/2026/02/FAT-Ice-Graphic-2.0.png
END:VEVENT
BEGIN:VEVENT
DTSTART;TZID=America/Denver:20260227T100000
DTEND;TZID=America/Denver:20260228T160000
DTSTAMP:20260423T040836
CREATED:20260113T191126Z
LAST-MODIFIED:20260113T191126Z
UID:10002913-1772186400-1772294400@www.bigskytowncenter.com
SUMMARY:Moonlight Basin: F.A.T Ice Race
DESCRIPTION:FAT Ice Race is heading back across the pond — and this time\, we’re taking on Big Sky! \nFrom the legendary frozen airway in Zell am See to the snow-covered fairways of Montana’s Moonlight Basin\, the adventure continues stateside. \nFeb 27 – 28\, 2026\n10AM – 4PM \nGET YOUR FAT ICE RACE TICKET HERE
URL:https://www.bigskytowncenter.com/event/moonlight-basin-f-a-t-ice-race/
LOCATION:MT
CATEGORIES:Community,Culture,Entertainment,Sports,Outdoor
ATTACH;FMTTYPE=image/avif:https://www.bigskytowncenter.com/wp-content/uploads/2026/01/dac70151b0c65e9c4c7447b3b648fd6ea2133bd0-2122x3200.jpg-2.avif
END:VEVENT
BEGIN:VEVENT
DTSTART;TZID=America/Denver:20260227T160000
DTEND;TZID=America/Denver:20260227T200000
DTSTAMP:20260423T040836
CREATED:20260227T173358Z
LAST-MODIFIED:20260227T173358Z
UID:10002966-1772208000-1772222400@www.bigskytowncenter.com
SUMMARY:Arts Council of Big Sky: Après Chili Cook Off
DESCRIPTION:
URL:https://www.bigskytowncenter.com/event/arts-council-of-big-sky-apres-chili-cook-off/
LOCATION:Big Sky Center for the Arts\, 77 Lone Peak Drive\, Big Sky\, MT\, 59716\, United States
CATEGORIES:Community,Outdoor
ATTACH;FMTTYPE=image/jpeg:https://www.bigskytowncenter.com/wp-content/uploads/2026/02/ChiliCookOffFlyer.jpg
GEO:45.2599405391;-111.310877036
X-APPLE-STRUCTURED-LOCATION;VALUE=URI;X-ADDRESS=Big Sky Center for the Arts 77 Lone Peak Drive Big Sky MT 59716 United States;X-APPLE-RADIUS=500;X-TITLE=77 Lone Peak Drive:geo:-111.310877036,45.2599405391
END:VEVENT
END:VCALENDAR