BEGIN:VCALENDAR
VERSION:2.0
PRODID:-//Big Sky Town Center - ECPv6.7.0//NONSGML v1.0//EN
CALSCALE:GREGORIAN
METHOD:PUBLISH
X-WR-CALNAME:Big Sky Town Center
X-ORIGINAL-URL:https://www.bigskytowncenter.com
X-WR-CALDESC:Events for Big Sky Town Center
REFRESH-INTERVAL;VALUE=DURATION:PT1H
X-Robots-Tag:noindex
X-PUBLISHED-TTL:PT1H
BEGIN:VTIMEZONE
TZID:America/Denver
BEGIN:DAYLIGHT
TZOFFSETFROM:-0700
TZOFFSETTO:-0600
TZNAME:MDT
DTSTART:20260308T090000
END:DAYLIGHT
BEGIN:STANDARD
TZOFFSETFROM:-0600
TZOFFSETTO:-0700
TZNAME:MST
DTSTART:20261101T080000
END:STANDARD
END:VTIMEZONE
BEGIN:VEVENT
DTSTART;VALUE=DATE:20260423
DTEND;VALUE=DATE:20260430
DTSTAMP:20260423T170745
CREATED:20260423T230331Z
LAST-MODIFIED:20260423T230331Z
UID:10003148-1776902400-1777507199@www.bigskytowncenter.com
SUMMARY:Block 3 Kitchen & Bar: CLOSED
DESCRIPTION:
URL:https://www.bigskytowncenter.com/event/block-3-kitchen-bar-closed/
LOCATION:Block 3 Kitchen & Bar\, 145 Town Center Ave.\, Big Sky\, MT\, 59716\, United States
CATEGORIES:Community,Entertainment
END:VEVENT
BEGIN:VEVENT
DTSTART;TZID=America/Denver:20260423T220000
DTEND;TZID=America/Denver:20260423T233000
DTSTAMP:20260423T170745
CREATED:20260302T200906Z
LAST-MODIFIED:20260302T200907Z
UID:10003033-1776981600-1776987000@www.bigskytowncenter.com
SUMMARY:Blue Buddha Sushi / Drunken Monk: Live DJ
DESCRIPTION:DJ Swampmoose every Thursday night at the Drunken Monk from 10pm to close. House music/ techno and craft cocktails.\n\nAges 21+\n\nPrice: Free\n\n\nUpcoming Dates:\n\nMar 12\, 2026 10:00 PM – 2:00 AM\n\nMar 19\, 2026 10:00 PM – 2:00 AM\n\n\n\n\nMar 26\, 2026 10:00 PM – 2:00 AM\n\n\n\n\nApr 02\, 2026 10:00 PM – 2:00 AM\n\n\n\n\nApr 09\, 2026 10:00 PM – 2:00 AM\n\n\n\n\nApr 16\, 2026 10:00 PM – 2:00 AM\n\n\n\n\nApr 23\, 2026 10:00 PM – 2:00 AM\n\n\n\n\nApr 30\, 2026 10:00 PM – 2:00 AM\n\n\n\nMay 07\, 2026 10:00 PM – 2:00 AM\n\n\nMay 14\, 2026 10:00 PM – 2:00 AM
URL:https://www.bigskytowncenter.com/event/blue-buddha-sushi-drunken-monk-live-dj/2026-04-23/
LOCATION:Blue Buddha Sushi / Drunken Monk\, 99 Town Center Ave.\, Big Sky\, MT\, 59716\, United States
CATEGORIES:Community,Entertainment
ATTACH;FMTTYPE=image/webp:https://www.bigskytowncenter.com/wp-content/uploads/2026/03/qtq-95.webp
GEO:45.2602560451;-111.306657023
X-APPLE-STRUCTURED-LOCATION;VALUE=URI;X-ADDRESS=Blue Buddha Sushi / Drunken Monk 99 Town Center Ave. Big Sky MT 59716 United States;X-APPLE-RADIUS=500;X-TITLE=99 Town Center Ave.:geo:-111.306657023,45.2602560451
END:VEVENT
BEGIN:VEVENT
DTSTART;TZID=America/Denver:20260424T090000
DTEND;TZID=America/Denver:20260424T160000
DTSTAMP:20260423T170745
CREATED:20260326T151355Z
LAST-MODIFIED:20260326T151355Z
UID:10003074-1777021200-1777046400@www.bigskytowncenter.com
SUMMARY:The Wilson: Business Skill Building | Managing With A Coach's Approach
DESCRIPTION:We will break down essential management principles and equip you with practical tools to navigate real-world management challenges.
URL:https://www.bigskytowncenter.com/event/the-wilson-business-skill-building-managing-with-a-coachs-approach/
LOCATION:The Wilson\, 145 Town Center Avenue\, Big Sky\, MT\, 59716\, United States
CATEGORIES:Community,Education
ATTACH;FMTTYPE=image/jpeg:https://www.bigskytowncenter.com/wp-content/uploads/2026/03/2b30600c-47dd-44c5-83c0-19b95c985f73-1400.jpg
END:VEVENT
BEGIN:VEVENT
DTSTART;TZID=America/Denver:20260424T180000
DTEND;TZID=America/Denver:20260424T210000
DTSTAMP:20260423T170745
CREATED:20260121T221853Z
LAST-MODIFIED:20260326T161958Z
UID:10003078-1777053600-1777064400@www.bigskytowncenter.com
SUMMARY:BASE Night Out!
DESCRIPTION:
URL:https://www.bigskytowncenter.com/event/base-night-out/2026-04-24/
LOCATION:BASE\, 285 Simkins\, Big Sky\, MT\, 59716\, United States
CATEGORIES:Community
ATTACH;FMTTYPE=image/png:https://www.bigskytowncenter.com/wp-content/uploads/2026/01/BASE-Night-Out-Flyer.png
END:VEVENT
BEGIN:VEVENT
DTSTART;TZID=America/Denver:20260425T120000
DTEND;TZID=America/Denver:20260425T180000
DTSTAMP:20260423T170745
CREATED:20260402T182417Z
LAST-MODIFIED:20260402T182418Z
UID:10003111-1777118400-1777140000@www.bigskytowncenter.com
SUMMARY:Big Sky Thrift: BIG Backroom Sale
DESCRIPTION:
URL:https://www.bigskytowncenter.com/event/big-sky-thrift-big-backroom-sale/
LOCATION:Big Sky Thrift\, 1700 Lone Mountain Trail\, Suite A\, Big Sky\, MT\, 59716\, United States
CATEGORIES:Community
ATTACH;FMTTYPE=image/jpeg:https://www.bigskytowncenter.com/wp-content/uploads/2026/04/Big-Backroom-Sale-Poster-April-25_5763018727241622445.jpg
GEO:45.2670256205;-111.287362697
X-APPLE-STRUCTURED-LOCATION;VALUE=URI;X-ADDRESS=Big Sky Thrift 1700 Lone Mountain Trail Suite A Big Sky MT 59716 United States;X-APPLE-RADIUS=500;X-TITLE=1700 Lone Mountain Trail\, Suite A:geo:-111.287362697,45.2670256205
END:VEVENT
BEGIN:VEVENT
DTSTART;TZID=America/Denver:20260427T160000
DTEND;TZID=America/Denver:20260427T220000
DTSTAMP:20260423T170745
CREATED:20250715T184222Z
LAST-MODIFIED:20260326T150511Z
UID:10003061-1777305600-1777327200@www.bigskytowncenter.com
SUMMARY:The Waypoint: Hummus & Wine
DESCRIPTION:Mondays and Tuesdays only\, join us for \nHummus & Wine\, 4pm- close\nHouse-made Hummus | Pita Chips | Olives | Feta | Tomato\nAnd one bottle of wine selection (per order): $35
URL:https://www.bigskytowncenter.com/event/the-waypoint-hummus-wine/2026-04-27/
LOCATION:The Waypoint\, 50 Ousel Falls Road\, Big Sky\, MT\, 59716\, United States
CATEGORIES:Community,Entertainment
ATTACH;FMTTYPE=image/webp:https://www.bigskytowncenter.com/wp-content/uploads/2025/07/Hummusandwine.png.webp
END:VEVENT
BEGIN:VEVENT
DTSTART;TZID=America/Denver:20260428T160000
DTEND;TZID=America/Denver:20260428T220000
DTSTAMP:20260423T170745
CREATED:20250715T184222Z
LAST-MODIFIED:20260326T150511Z
UID:10003062-1777392000-1777413600@www.bigskytowncenter.com
SUMMARY:The Waypoint: Hummus & Wine
DESCRIPTION:Mondays and Tuesdays only\, join us for \nHummus & Wine\, 4pm- close\nHouse-made Hummus | Pita Chips | Olives | Feta | Tomato\nAnd one bottle of wine selection (per order): $35
URL:https://www.bigskytowncenter.com/event/the-waypoint-hummus-wine/2026-04-28/
LOCATION:The Waypoint\, 50 Ousel Falls Road\, Big Sky\, MT\, 59716\, United States
CATEGORIES:Community,Entertainment
ATTACH;FMTTYPE=image/webp:https://www.bigskytowncenter.com/wp-content/uploads/2025/07/Hummusandwine.png.webp
END:VEVENT
BEGIN:VEVENT
DTSTART;TZID=America/Denver:20260430T180000
DTEND;TZID=America/Denver:20260430T193000
DTSTAMP:20260423T170745
CREATED:20260421T194355Z
LAST-MODIFIED:20260421T194355Z
UID:10003135-1777572000-1777577400@www.bigskytowncenter.com
SUMMARY:Big Sky Center for the Arts: Give Big\, Big Sky Kickoff Party
DESCRIPTION:Join the community for a collaborative evening celebrating the nonprofits that make Big Sky thrive. This kickoff event launches the 24 hours of online giving for Give Big Gallatin Valley and brings together over 20 local organizations for a night of connection\, learning\, and fun. \nLocation: Big Sky Center for the Arts\nDate: Thursday\, April 30\, 2026\nTime: 6 to 7:30 p.m.\nAfter Party: 7:30 to 8:30 p.m. at Fire Pit Park \nBig Sky’s nonprofit organizations are coming together to celebrate and share the important work they do in the community. Meet the people behind these organizations\, learn about their impact\, and explore ways to get involved. \nEnjoy interactive activities including Trivia Bingo and Kids Logo Bingo\, with completed cards entered into prize drawings featuring baskets filled with swag from participating nonprofits. Younger supporters are encouraged to take part through Kids Giving\, with special donation jars at each table and a youth prize drawing. \nFood and drinks will be available from Blue Moon Bakery\, with proceeds supporting participating nonprofits. \nThe evening will also feature live entertainment\, a local artist showcase with John Piacquadio\, and a community-centered after party to continue the celebration. \nCome out to support\, connect\, and be part of Big Sky’s spirit of giving.
URL:https://www.bigskytowncenter.com/event/big-sky-center-for-the-arts-give-big-big-sky-kickoff-party/
LOCATION:Big Sky Center for the Arts\, 77 Lone Peak Drive\, Big Sky\, MT\, 59716\, United States
CATEGORIES:Community
ATTACH;FMTTYPE=image/jpeg:https://www.bigskytowncenter.com/wp-content/uploads/2026/04/copy-of-english-post-1-1.png.jpeg
ORGANIZER;CN="Arts Council of Big Sky":MAILTO:brian@bigskyarts.org
GEO:45.2599405391;-111.310877036
X-APPLE-STRUCTURED-LOCATION;VALUE=URI;X-ADDRESS=Big Sky Center for the Arts 77 Lone Peak Drive Big Sky MT 59716 United States;X-APPLE-RADIUS=500;X-TITLE=77 Lone Peak Drive:geo:-111.310877036,45.2599405391
END:VEVENT
BEGIN:VEVENT
DTSTART;TZID=America/Denver:20260430T180000
DTEND;TZID=America/Denver:20260430T193000
DTSTAMP:20260423T170745
CREATED:20260421T194927Z
LAST-MODIFIED:20260421T194927Z
UID:10003136-1777572000-1777577400@www.bigskytowncenter.com
SUMMARY:The Wilson: Gallatin County Local Government Study Commission - Listening Session in Big Sky
DESCRIPTION:Overview and Purpose\nThe Gallatin County Local Government Study Commission is a voter-initiated review of the county’s current government structure and operations. The Commission will be active for two years\, will hold regular meetings and will invite public participation throughout the process. Its purpose is to examine the county’s existing powers\, form of government\, and service delivery procedures\, and to compare it with alternative structures allowed under state law. \nLearn more at our Resources and FAQ page! \nJoin us in person to share your voice!
URL:https://www.bigskytowncenter.com/event/the-wilson-gallatin-county-local-government-study-commission-listening-session-in-big-sky/
LOCATION:The Wilson\, 145 Town Center Avenue\, Big Sky\, MT\, 59716\, United States
CATEGORIES:Community,Education
ATTACH;FMTTYPE=image/jpeg:https://www.bigskytowncenter.com/wp-content/uploads/2026/04/gcsc26-001_p2_800x400_.jpg
END:VEVENT
BEGIN:VEVENT
DTSTART;TZID=America/Denver:20260430T180000
DTEND;TZID=America/Denver:20260501T180000
DTSTAMP:20260423T170745
CREATED:20260305T191522Z
LAST-MODIFIED:20260305T191522Z
UID:10003038-1777572000-1777658400@www.bigskytowncenter.com
SUMMARY:Give Big Gallatin Valley 2026
DESCRIPTION:Give Big Gallatin Valley is back from 6 pm April 30 through 6 pm May 1\, 2026. During these 24 hours of generosity\, neighbors across Gallatin County will come together to give to the causes they care about at GiveBigGV.org. Hosted by One Valley Community Foundation\, Give Big has raised more than $20.4 million for 489 nonprofits since launching in 2015\, helping strengthen the organizations that make Gallatin County a strong and vibrant place to call home. \nNew for 2026\, Give Big is completely fee-free. Thanks to a generous investment from the Jill and Nicholas Woodman Foundation at One Valley Community Foundation\, all host\, platform\, and credit card processing fees are covered. That means 100% of every donation goes directly to the nonprofits you care about. \nJoin thousands of community members in supporting the organizations that help our community thrive. Learn more and plan your gift at GiveBigGV.org.
URL:https://www.bigskytowncenter.com/event/give-big-gallatin-valley-2026/
LOCATION:MT
CATEGORIES:Community,Culture,Education
ATTACH;FMTTYPE=image/png:https://www.bigskytowncenter.com/wp-content/uploads/2026/03/Square-General-01.png
END:VEVENT
BEGIN:VEVENT
DTSTART;TZID=America/Denver:20260430T220000
DTEND;TZID=America/Denver:20260430T233000
DTSTAMP:20260423T170745
CREATED:20260302T200906Z
LAST-MODIFIED:20260302T200907Z
UID:10003034-1777586400-1777591800@www.bigskytowncenter.com
SUMMARY:Blue Buddha Sushi / Drunken Monk: Live DJ
DESCRIPTION:DJ Swampmoose every Thursday night at the Drunken Monk from 10pm to close. House music/ techno and craft cocktails.\n\nAges 21+\n\nPrice: Free\n\n\nUpcoming Dates:\n\nMar 12\, 2026 10:00 PM – 2:00 AM\n\nMar 19\, 2026 10:00 PM – 2:00 AM\n\n\n\n\nMar 26\, 2026 10:00 PM – 2:00 AM\n\n\n\n\nApr 02\, 2026 10:00 PM – 2:00 AM\n\n\n\n\nApr 09\, 2026 10:00 PM – 2:00 AM\n\n\n\n\nApr 16\, 2026 10:00 PM – 2:00 AM\n\n\n\n\nApr 23\, 2026 10:00 PM – 2:00 AM\n\n\n\n\nApr 30\, 2026 10:00 PM – 2:00 AM\n\n\n\nMay 07\, 2026 10:00 PM – 2:00 AM\n\n\nMay 14\, 2026 10:00 PM – 2:00 AM
URL:https://www.bigskytowncenter.com/event/blue-buddha-sushi-drunken-monk-live-dj/2026-04-30/
LOCATION:Blue Buddha Sushi / Drunken Monk\, 99 Town Center Ave.\, Big Sky\, MT\, 59716\, United States
CATEGORIES:Community,Entertainment
ATTACH;FMTTYPE=image/webp:https://www.bigskytowncenter.com/wp-content/uploads/2026/03/qtq-95.webp
GEO:45.2602560451;-111.306657023
X-APPLE-STRUCTURED-LOCATION;VALUE=URI;X-ADDRESS=Blue Buddha Sushi / Drunken Monk 99 Town Center Ave. Big Sky MT 59716 United States;X-APPLE-RADIUS=500;X-TITLE=99 Town Center Ave.:geo:-111.306657023,45.2602560451
END:VEVENT
END:VCALENDAR