BEGIN:VCALENDAR
VERSION:2.0
PRODID:-//Big Sky Town Center - ECPv6.7.0//NONSGML v1.0//EN
CALSCALE:GREGORIAN
METHOD:PUBLISH
X-ORIGINAL-URL:https://www.bigskytowncenter.com
X-WR-CALDESC:Events for Big Sky Town Center
REFRESH-INTERVAL;VALUE=DURATION:PT1H
X-Robots-Tag:noindex
X-PUBLISHED-TTL:PT1H
BEGIN:VTIMEZONE
TZID:America/Denver
BEGIN:DAYLIGHT
TZOFFSETFROM:-0700
TZOFFSETTO:-0600
TZNAME:MDT
DTSTART:20240310T090000
END:DAYLIGHT
BEGIN:STANDARD
TZOFFSETFROM:-0600
TZOFFSETTO:-0700
TZNAME:MST
DTSTART:20241103T080000
END:STANDARD
END:VTIMEZONE
BEGIN:VEVENT
DTSTART;TZID=America/Denver:20241122T153000
DTEND;TZID=America/Denver:20241122T163000
DTSTAMP:20260423T064423
CREATED:20241028T182551Z
LAST-MODIFIED:20241028T182551Z
UID:10001612-1732289400-1732293000@www.bigskytowncenter.com
SUMMARY:BASE: Futsal for Kids ages 5-6
DESCRIPTION:Signup required. \nAll league signups can be found at BASE/BSCO website HERE for more information.
URL:https://www.bigskytowncenter.com/event/base-futsal-for-kids-ages-5-6/2024-11-22/
LOCATION:BASE\, 285 Simkins\, Big Sky\, MT\, 59716\, United States
CATEGORIES:Community,Entertainment,Sports,Health
ORGANIZER;CN="Big Sky Community Organization":MAILTO:bsco@bsco.org
END:VEVENT
END:VCALENDAR