BEGIN:VCALENDAR
VERSION:2.0
PRODID:-//Big Sky Town Center - ECPv6.7.0//NONSGML v1.0//EN
CALSCALE:GREGORIAN
METHOD:PUBLISH
X-WR-CALNAME:Big Sky Town Center
X-ORIGINAL-URL:https://www.bigskytowncenter.com
X-WR-CALDESC:Events for Big Sky Town Center
REFRESH-INTERVAL;VALUE=DURATION:PT1H
X-Robots-Tag:noindex
X-PUBLISHED-TTL:PT1H
BEGIN:VTIMEZONE
TZID:America/Denver
BEGIN:DAYLIGHT
TZOFFSETFROM:-0700
TZOFFSETTO:-0600
TZNAME:MDT
DTSTART:20240310T090000
END:DAYLIGHT
BEGIN:STANDARD
TZOFFSETFROM:-0600
TZOFFSETTO:-0700
TZNAME:MST
DTSTART:20241103T080000
END:STANDARD
END:VTIMEZONE
BEGIN:VEVENT
DTSTART;VALUE=DATE:20240930
DTEND;VALUE=DATE:20241006
DTSTAMP:20260420T111926
CREATED:20240930T161858Z
LAST-MODIFIED:20240930T161858Z
UID:10001032-1727654400-1728172799@www.bigskytowncenter.com
SUMMARY:Big Sky School District Homecoming Week
DESCRIPTION:
URL:https://www.bigskytowncenter.com/event/big-sky-school-district-homecoming-week/
LOCATION:MT
CATEGORIES:Community,Education,Entertainment,Sports,Outdoor
ATTACH;FMTTYPE=image/png:https://www.bigskytowncenter.com/wp-content/uploads/2024/09/Screenshot-2024-09-30-at-10.15.15 AM.png
END:VEVENT
BEGIN:VEVENT
DTSTART;VALUE=DATE:20241001
DTEND;VALUE=DATE:20241002
DTSTAMP:20260420T111926
CREATED:20241002T195811Z
LAST-MODIFIED:20241002T195811Z
UID:10001033-1727740800-1727827199@www.bigskytowncenter.com
SUMMARY:Big Sky Artists' Studio & Gallery: Big Sky & Yellowstone All Year Round
DESCRIPTION:Big Sky Artists’ Studio & Gallery are opening a new show in October.  It’s called BIG SKY & YELLOWSTONE ALL YEAR ROUND and features new work from the permanent members of the Big Sky Artists’ Studio & Gallery.\n\n\nWe’ll host an opening “meet the artist and Collective members” reception Friday October 5th from 5 – 7pm\, which is open to all. There is a lot going on in Big Sky this Friday so whether you are a resident or a visitor\, we invite you to stop in\, say hello\, and move on to your next event.
URL:https://www.bigskytowncenter.com/event/big-sky-artists-studio-gallery-big-sky-yellowstone-all-year-round/
LOCATION:Big Sky Artists’ Studio & Gallery\, 88 Ousel Falls Road\, Big Sky\, MT\, 59716\, United States
CATEGORIES:Community,Culture,Education,Entertainment,Outdoor
ATTACH;FMTTYPE=image/png:https://www.bigskytowncenter.com/wp-content/uploads/2024/10/Screenshot-2024-10-02-at-1.54.56 PM.png
ORGANIZER;CN="Big Sky Artists Collective":MAILTO:bigskyartistscollective@gmail.com
END:VEVENT
END:VCALENDAR