BEGIN:VCALENDAR
VERSION:2.0
PRODID:-//Big Sky Town Center - ECPv6.7.0//NONSGML v1.0//EN
CALSCALE:GREGORIAN
METHOD:PUBLISH
X-ORIGINAL-URL:https://www.bigskytowncenter.com
X-WR-CALDESC:Events for Big Sky Town Center
REFRESH-INTERVAL;VALUE=DURATION:PT1H
X-Robots-Tag:noindex
X-PUBLISHED-TTL:PT1H
BEGIN:VTIMEZONE
TZID:America/Denver
BEGIN:DAYLIGHT
TZOFFSETFROM:-0700
TZOFFSETTO:-0600
TZNAME:MDT
DTSTART:20240310T090000
END:DAYLIGHT
BEGIN:STANDARD
TZOFFSETFROM:-0600
TZOFFSETTO:-0700
TZNAME:MST
DTSTART:20241103T080000
END:STANDARD
END:VTIMEZONE
BEGIN:VEVENT
DTSTART;VALUE=DATE:20240718
DTEND;VALUE=DATE:20240721
DTSTAMP:20260423T064352
CREATED:20240219T205616Z
LAST-MODIFIED:20240703T135241Z
UID:10000317-1721260800-1721519999@www.bigskytowncenter.com
SUMMARY:Big Sky PBR
DESCRIPTION:The 2024 Big Sky PBR event is July 18-20. Tickets go on sale March 4. For more information\, head on over to the event website HERE \nFor Schedule visit HERE \nFor Tickets visit HERE
URL:https://www.bigskytowncenter.com/event/big-sky-pbr/
LOCATION:Big Sky Events Arena\, 450 Aspen Leaf Drive\, Big Sky\, MT\, 59716\, United States
CATEGORIES:Community,Entertainment,Sports,Outdoor
GEO:45.2581679521;-111.305427137
X-APPLE-STRUCTURED-LOCATION;VALUE=URI;X-ADDRESS=Big Sky Events Arena 450 Aspen Leaf Drive Big Sky MT 59716 United States;X-APPLE-RADIUS=500;X-TITLE=450 Aspen Leaf Drive:geo:-111.305427137,45.2581679521
END:VEVENT
END:VCALENDAR