BEGIN:VCALENDAR
VERSION:2.0
PRODID:-//Big Sky Town Center - ECPv6.7.0//NONSGML v1.0//EN
CALSCALE:GREGORIAN
METHOD:PUBLISH
X-ORIGINAL-URL:https://www.bigskytowncenter.com
X-WR-CALDESC:Events for Big Sky Town Center
REFRESH-INTERVAL;VALUE=DURATION:PT1H
X-Robots-Tag:noindex
X-PUBLISHED-TTL:PT1H
BEGIN:VTIMEZONE
TZID:America/Denver
BEGIN:DAYLIGHT
TZOFFSETFROM:-0700
TZOFFSETTO:-0600
TZNAME:MDT
DTSTART:20240310T090000
END:DAYLIGHT
BEGIN:STANDARD
TZOFFSETFROM:-0600
TZOFFSETTO:-0700
TZNAME:MST
DTSTART:20241103T080000
END:STANDARD
END:VTIMEZONE
BEGIN:VEVENT
DTSTART;TZID=America/Denver:20240112T160000
DTEND;TZID=America/Denver:20240112T190000
DTSTAMP:20260420T054300
CREATED:20240109T162049Z
LAST-MODIFIED:20240109T211524Z
UID:10000044-1705075200-1705086000@www.bigskytowncenter.com
SUMMARY:Winter Lights & Delights: Town Center Fridays
DESCRIPTION:Experience the enchantment of Big Sky Town Center every Friday between 4–7pm from December 22 to the end of March. Immerse yourself in a lively atmosphere where local retailers\, restaurants\, bars\, and art galleries offer exclusive specials\, retail raffles\, local musicians\, and more. Friday nights in Town Center are the place to be this winter season!
URL:https://www.bigskytowncenter.com/event/winter-lights-delights-town-center-fridays/2024-01-12/
LOCATION:MT
CATEGORIES:Community
ATTACH;FMTTYPE=image/png:https://www.bigskytowncenter.com/wp-content/uploads/2024/01/Screenshot-2024-01-09-at-2.15.05 PM.png
END:VEVENT
BEGIN:VEVENT
DTSTART;TZID=America/Denver:20240116T160000
DTEND;TZID=America/Denver:20240116T233000
DTSTAMP:20260420T054300
CREATED:20240109T175219Z
LAST-MODIFIED:20240116T193416Z
UID:10000009-1705420800-1705447800@www.bigskytowncenter.com
SUMMARY:The Waypoint: Darren Johnson Memorial Fund
DESCRIPTION:Silent Aution and Ski Movie – TGR’s “Legend has it” \n$20 at the door – 1 free beer & entry into raffle \nA friend and seasoned fellow ski patroller\, Darren Johnson\, died in an avalanche whilst on duty helping graduate students collect snowpack data. \nIn our business accidents can be tragic. This time\, we decided to create a silver lining. \nWe know the critical importance of training and education for the accurate assessment and management of terrain\, and the risks associated with getting it wrong. The Darren Johnson Avalanche Education Memorial Fund provides financial support to dedicated professional ski patrollers looking to further their snow science and avalanche education. \nLearn More
URL:https://www.bigskytowncenter.com/event/darren-johnson-memorial-fund/
LOCATION:The Waypoint\, 50 Ousel Falls Road\, Big Sky\, MT\, 59716\, United States
CATEGORIES:Community
ATTACH;FMTTYPE=image/jpeg:https://www.bigskytowncenter.com/wp-content/uploads/2024/01/68A8699F-14C5-458C-8F49-5D904AC752AC-1.jpg
END:VEVENT
BEGIN:VEVENT
DTSTART;TZID=America/Denver:20240116T180000
DTEND;TZID=America/Denver:20240116T193000
DTSTAMP:20260420T054300
CREATED:20240109T181807Z
LAST-MODIFIED:20240116T193316Z
UID:10000040-1705428000-1705433400@www.bigskytowncenter.com
SUMMARY:The Wilson: Welcome New Seasonal Worker Dinner
DESCRIPTION:Meet other new workers and Big Sky community members at this buffet dinner. 6:00 – 7:30pm. Limit 90 attendees.
URL:https://www.bigskytowncenter.com/event/welcome-new-seasonal-worker-dinner/
LOCATION:The Wilson\, 145 Town Center Avenue\, Big Sky\, MT\, 59716\, United States
CATEGORIES:Community
END:VEVENT
BEGIN:VEVENT
DTSTART;TZID=America/Denver:20240116T190000
DTEND;TZID=America/Denver:20240116T220000
DTSTAMP:20260420T054300
CREATED:20240109T181806Z
LAST-MODIFIED:20240116T193253Z
UID:10000008-1705431600-1705442400@www.bigskytowncenter.com
SUMMARY:The Waypoint: Rotary Club Gold Auction
DESCRIPTION:Come out and support the Big Sky Rotary at their annual Gold Auction. \n\n\nPre Purchased VIP tickets for $100 \n\n\nincludes event entry/food\, 2 drink tickets\, 10 auction item raffle tickets\, 1 Gold Grand Prize raffle ticket (3 winners)\, entry into the trivia game \n\n\n\n\nAt-the-door tickets for $50 \n\n\nincludes event entry/food\, entry into the trivia game \n\n\n\n\nGold Auction Grand Prize Raffle: 1st place: $1000\, 2nd: $750\, 3rd: $500 \nTo pre-purchase your VIP tickets\, please visit this link.
URL:https://www.bigskytowncenter.com/event/rotary-club-gold-auction/
LOCATION:The Waypoint\, 50 Ousel Falls Road\, Big Sky\, MT\, 59716\, United States
CATEGORIES:Community
END:VEVENT
BEGIN:VEVENT
DTSTART;TZID=America/Denver:20240118T160000
DTEND;TZID=America/Denver:20240118T233000
DTSTAMP:20260420T054300
CREATED:20240110T185741Z
LAST-MODIFIED:20240116T193149Z
UID:10000056-1705593600-1705620600@www.bigskytowncenter.com
SUMMARY:Beehive Basin Brewery: Darren Johnson Memorial Fund
DESCRIPTION:Pint Night @ Beehive Basin Brewery \nRaffle & Prizes \n$1 per beverage donated \nA friend and seasoned fellow ski patroller\, Darren Johnson\, died in an avalanche whilst on duty helping graduate students collect snowpack data. \nIn our business accidents can be tragic. This time\, we decided to create a silver lining. \nWe know the critical importance of training and education for the accurate assessment and management of terrain\, and the risks associated with getting it wrong. The Darren Johnson Avalanche Education Memorial Fund provides financial support to dedicated professional ski patrollers looking to further their snow science and avalanche education. \nLearn More
URL:https://www.bigskytowncenter.com/event/darren-johnson-memorial-fund-2/
LOCATION:Beehive Basin Brewery\, 245 Town Center Ave.\, Big Sky\, MT\, 59716\, United States
CATEGORIES:Community
ATTACH;FMTTYPE=image/jpeg:https://www.bigskytowncenter.com/wp-content/uploads/2024/01/68A8699F-14C5-458C-8F49-5D904AC752AC-1.jpg
END:VEVENT
BEGIN:VEVENT
DTSTART;TZID=America/Denver:20240119T160000
DTEND;TZID=America/Denver:20240119T190000
DTSTAMP:20260420T054300
CREATED:20240109T162049Z
LAST-MODIFIED:20240109T211524Z
UID:10000045-1705680000-1705690800@www.bigskytowncenter.com
SUMMARY:Winter Lights & Delights: Town Center Fridays
DESCRIPTION:Experience the enchantment of Big Sky Town Center every Friday between 4–7pm from December 22 to the end of March. Immerse yourself in a lively atmosphere where local retailers\, restaurants\, bars\, and art galleries offer exclusive specials\, retail raffles\, local musicians\, and more. Friday nights in Town Center are the place to be this winter season!
URL:https://www.bigskytowncenter.com/event/winter-lights-delights-town-center-fridays/2024-01-19/
LOCATION:MT
CATEGORIES:Community
ATTACH;FMTTYPE=image/png:https://www.bigskytowncenter.com/wp-content/uploads/2024/01/Screenshot-2024-01-09-at-2.15.05 PM.png
END:VEVENT
BEGIN:VEVENT
DTSTART;TZID=America/Denver:20240119T170000
DTEND;TZID=America/Denver:20240119T190000
DTSTAMP:20260420T054300
CREATED:20240116T231639Z
LAST-MODIFIED:20240125T170213Z
UID:10000059-1705683600-1705690800@www.bigskytowncenter.com
SUMMARY:The Wilson: Winter Kids Craft Night
DESCRIPTION:Friday nights just got a whole lot craftier. Come by this evening for our Winter Kids Craft Night series. Enjoy different crafts each week and a special kids mocktail menu. \nEvery Friday this season from 5:00 – 7:00pm. Cost $5 for craft materials.
URL:https://www.bigskytowncenter.com/event/the-wilson-hotel-winter-kids-craft-night/2024-01-19/
LOCATION:The Wilson\, 145 Town Center Avenue\, Big Sky\, MT\, 59716\, United States
CATEGORIES:Community
ATTACH;FMTTYPE=image/jpeg:https://www.bigskytowncenter.com/wp-content/uploads/2024/01/WinterKidsCraftNight.jpg
END:VEVENT
BEGIN:VEVENT
DTSTART;TZID=America/Denver:20240121T120000
DTEND;TZID=America/Denver:20240121T140000
DTSTAMP:20260420T054300
CREATED:20240109T175219Z
LAST-MODIFIED:20240116T193001Z
UID:10000041-1705838400-1705845600@www.bigskytowncenter.com
SUMMARY:BASE: Welcome New Seasonal Worker Lunch
DESCRIPTION:Meet other new workers from around Big Sky at a festive lunch. If you attend lunch\, you will receive a free one-day pass of your choosing for all activities at BASE. 12:00 – 2:00pm. Limit 60 attendees.
URL:https://www.bigskytowncenter.com/event/welcome-new-seasonal-worker-lunch/
LOCATION:BASE\, 285 Simkins\, Big Sky\, MT\, 59716\, United States
CATEGORIES:Community
END:VEVENT
BEGIN:VEVENT
DTSTART;TZID=America/Denver:20240126T160000
DTEND;TZID=America/Denver:20240126T190000
DTSTAMP:20260420T054300
CREATED:20240109T162049Z
LAST-MODIFIED:20240109T211524Z
UID:10000046-1706284800-1706295600@www.bigskytowncenter.com
SUMMARY:Winter Lights & Delights: Town Center Fridays
DESCRIPTION:Experience the enchantment of Big Sky Town Center every Friday between 4–7pm from December 22 to the end of March. Immerse yourself in a lively atmosphere where local retailers\, restaurants\, bars\, and art galleries offer exclusive specials\, retail raffles\, local musicians\, and more. Friday nights in Town Center are the place to be this winter season!
URL:https://www.bigskytowncenter.com/event/winter-lights-delights-town-center-fridays/2024-01-26/
LOCATION:MT
CATEGORIES:Community
ATTACH;FMTTYPE=image/png:https://www.bigskytowncenter.com/wp-content/uploads/2024/01/Screenshot-2024-01-09-at-2.15.05 PM.png
END:VEVENT
BEGIN:VEVENT
DTSTART;TZID=America/Denver:20240126T170000
DTEND;TZID=America/Denver:20240126T190000
DTSTAMP:20260420T054300
CREATED:20240116T231639Z
LAST-MODIFIED:20240125T170213Z
UID:10000060-1706288400-1706295600@www.bigskytowncenter.com
SUMMARY:The Wilson: Winter Kids Craft Night
DESCRIPTION:Friday nights just got a whole lot craftier. Come by this evening for our Winter Kids Craft Night series. Enjoy different crafts each week and a special kids mocktail menu. \nEvery Friday this season from 5:00 – 7:00pm. Cost $5 for craft materials.
URL:https://www.bigskytowncenter.com/event/the-wilson-hotel-winter-kids-craft-night/2024-01-26/
LOCATION:The Wilson\, 145 Town Center Avenue\, Big Sky\, MT\, 59716\, United States
CATEGORIES:Community
ATTACH;FMTTYPE=image/jpeg:https://www.bigskytowncenter.com/wp-content/uploads/2024/01/WinterKidsCraftNight.jpg
END:VEVENT
END:VCALENDAR