BEGIN:VCALENDAR
VERSION:2.0
PRODID:-//Big Sky Town Center - ECPv6.7.0//NONSGML v1.0//EN
CALSCALE:GREGORIAN
METHOD:PUBLISH
X-ORIGINAL-URL:https://www.bigskytowncenter.com
X-WR-CALDESC:Events for Big Sky Town Center
REFRESH-INTERVAL;VALUE=DURATION:PT1H
X-Robots-Tag:noindex
X-PUBLISHED-TTL:PT1H
BEGIN:VTIMEZONE
TZID:America/Denver
BEGIN:DAYLIGHT
TZOFFSETFROM:-0700
TZOFFSETTO:-0600
TZNAME:MDT
DTSTART:20260308T090000
END:DAYLIGHT
BEGIN:STANDARD
TZOFFSETFROM:-0600
TZOFFSETTO:-0700
TZNAME:MST
DTSTART:20261101T080000
END:STANDARD
END:VTIMEZONE
BEGIN:VEVENT
DTSTART;TZID=America/Denver:20260327T170000
DTEND;TZID=America/Denver:20260327T190000
DTSTAMP:20260425T054110
CREATED:20260306T153851Z
LAST-MODIFIED:20260306T153851Z
UID:10003042-1774630800-1774638000@www.bigskytowncenter.com
SUMMARY:This Month At The Wilson
DESCRIPTION:
URL:https://www.bigskytowncenter.com/event/this-month-at-the-wilson-2/2026-03-27/
LOCATION:The Wilson\, 145 Town Center Avenue\, Big Sky\, MT\, 59716\, United States
CATEGORIES:Entertainment
ATTACH;FMTTYPE=image/png:https://www.bigskytowncenter.com/wp-content/uploads/2026/03/Screenshot-2026-03-06-at-8.36.47-AM.png
END:VEVENT
BEGIN:VEVENT
DTSTART;TZID=America/Denver:20260327T210000
DTEND;TZID=America/Denver:20260327T230000
DTSTAMP:20260425T054110
CREATED:20260302T174034Z
LAST-MODIFIED:20260302T174034Z
UID:10002990-1774645200-1774652400@www.bigskytowncenter.com
SUMMARY:Tips Up: Live Music with Zach Nytomt Band
DESCRIPTION:Americana
URL:https://www.bigskytowncenter.com/event/tips-up-live-music-with-zach-nytomt-band/
LOCATION:Tips Up\, 76 Town Center Avenue\, Big Sky\, MT\, 59716\, United States
CATEGORIES:Entertainment
ATTACH;FMTTYPE=image/png:https://www.bigskytowncenter.com/wp-content/uploads/2025/09/tips-up-bar.png
END:VEVENT
BEGIN:VEVENT
DTSTART;TZID=America/Denver:20260327T210000
DTEND;TZID=America/Denver:20260327T233000
DTSTAMP:20260425T054110
CREATED:20251112T180508Z
LAST-MODIFIED:20260326T150606Z
UID:10003018-1774645200-1774654200@www.bigskytowncenter.com
SUMMARY:The Waypoint: Winter Karaoke
DESCRIPTION:Sing your favorite songs with us at Winter Karaoke\, every Friday night at 9pm!
URL:https://www.bigskytowncenter.com/event/the-waypoint-winter-karaoke-2/2026-03-27/
LOCATION:The Waypoint\, 50 Ousel Falls Road\, Big Sky\, MT\, 59716\, United States
CATEGORIES:Entertainment
ATTACH;FMTTYPE=image/webp:https://www.bigskytowncenter.com/wp-content/uploads/2025/11/WINTERKARAOKE2025-6.png.webp
END:VEVENT
END:VCALENDAR