BEGIN:VCALENDAR
VERSION:2.0
PRODID:-//Big Sky Town Center - ECPv6.7.0//NONSGML v1.0//EN
CALSCALE:GREGORIAN
METHOD:PUBLISH
X-ORIGINAL-URL:https://www.bigskytowncenter.com
X-WR-CALDESC:Events for Big Sky Town Center
REFRESH-INTERVAL;VALUE=DURATION:PT1H
X-Robots-Tag:noindex
X-PUBLISHED-TTL:PT1H
BEGIN:VTIMEZONE
TZID:America/Denver
BEGIN:DAYLIGHT
TZOFFSETFROM:-0700
TZOFFSETTO:-0600
TZNAME:MDT
DTSTART:20250309T090000
END:DAYLIGHT
BEGIN:STANDARD
TZOFFSETFROM:-0600
TZOFFSETTO:-0700
TZNAME:MST
DTSTART:20251102T080000
END:STANDARD
END:VTIMEZONE
BEGIN:VEVENT
DTSTART;TZID=America/Denver:20250809T170000
DTEND;TZID=America/Denver:20250809T190000
DTSTAMP:20260420T021325
CREATED:20250804T165002Z
LAST-MODIFIED:20250804T165002Z
UID:10002529-1754758800-1754766000@www.bigskytowncenter.com
SUMMARY:The Wilson Hotel: Kevin Fabozzi
DESCRIPTION:Kevin has long been entertaining music lovers in Big Sky\, throughout Montana\, country\, and overseas. Kevin’s career spans over 25 years as a guitarist\, vocalist\, and mandolinist with many traditional and progressive acoustic music groups. These days\, you find him playing bluegrass and Americana all around the Big Sky country\, wherever live music is happening.
URL:https://www.bigskytowncenter.com/event/the-wilson-hotel-kevin-fabozzi/
LOCATION:The Wilson\, 145 Town Center Avenue\, Big Sky\, MT\, 59716\, United States
CATEGORIES:Entertainment
ATTACH;FMTTYPE=image/png:https://www.bigskytowncenter.com/wp-content/uploads/2025/08/Screenshot-2025-03-08-at-2-24-45-PM.png
END:VEVENT
BEGIN:VEVENT
DTSTART;TZID=America/Denver:20250809T193000
DTEND;TZID=America/Denver:20250809T213000
DTSTAMP:20260420T021325
CREATED:20250717T161707Z
LAST-MODIFIED:20250717T161707Z
UID:10002508-1754767800-1754775000@www.bigskytowncenter.com
SUMMARY:The Waypoint: Mathias
DESCRIPTION:Join us for live music with Mathias!
URL:https://www.bigskytowncenter.com/event/the-waypoint-mathias/
LOCATION:The Waypoint\, 50 Ousel Falls Road\, Big Sky\, MT\, 59716\, United States
CATEGORIES:Entertainment
END:VEVENT
BEGIN:VEVENT
DTSTART;TZID=America/Denver:20250809T210000
DTEND;TZID=America/Denver:20250809T233000
DTSTAMP:20260420T021325
CREATED:20250804T164831Z
LAST-MODIFIED:20250804T164831Z
UID:10002528-1754773200-1754782200@www.bigskytowncenter.com
SUMMARY:Tips Up: Boomer
DESCRIPTION:
URL:https://www.bigskytowncenter.com/event/tips-up-boomer/
LOCATION:Tips Up\, 76 Town Center Avenue\, Big Sky\, MT\, 59716\, United States
CATEGORIES:Entertainment
END:VEVENT
END:VCALENDAR