BEGIN:VCALENDAR
VERSION:2.0
PRODID:-//Big Sky Town Center - ECPv6.7.0//NONSGML v1.0//EN
CALSCALE:GREGORIAN
METHOD:PUBLISH
X-ORIGINAL-URL:https://www.bigskytowncenter.com
X-WR-CALDESC:Events for Big Sky Town Center
REFRESH-INTERVAL;VALUE=DURATION:PT1H
X-Robots-Tag:noindex
X-PUBLISHED-TTL:PT1H
BEGIN:VTIMEZONE
TZID:America/Denver
BEGIN:DAYLIGHT
TZOFFSETFROM:-0700
TZOFFSETTO:-0600
TZNAME:MDT
DTSTART:20250309T090000
END:DAYLIGHT
BEGIN:STANDARD
TZOFFSETFROM:-0600
TZOFFSETTO:-0700
TZNAME:MST
DTSTART:20251102T080000
END:STANDARD
END:VTIMEZONE
BEGIN:VEVENT
DTSTART;TZID=America/Denver:20250730T120000
DTEND;TZID=America/Denver:20250730T130000
DTSTAMP:20260423T022210
CREATED:20250102T182000Z
LAST-MODIFIED:20260102T201542Z
UID:10001824-1753876800-1753880400@www.bigskytowncenter.com
SUMMARY:Moving Mountains: MTN Mindful
DESCRIPTION:MTN Mindful is a yoga class focused on the connection between mind\, body and breath. This practice supports your nervous system while also building mobility\, strength\, and balance. Please bring your own mat if you are able and meet at Moving Mountains gym at least 5 min prior to the start of class!
URL:https://www.bigskytowncenter.com/event/moving-mountains-mtn-mindful/2025-07-30/
LOCATION:Moving Mountains\, 245 Town Center Ave #1A\, Big Sky\, MT\, 59716\, United States
CATEGORIES:Community,Education,Sports,Health,Outdoor
ATTACH;FMTTYPE=image/png:https://www.bigskytowncenter.com/wp-content/uploads/2025/01/Copy-Of-Yoga-Poster-Winter-Landscape-1080-x-800-px-_C009DCCE-A3ED-3156-03C1A8AB1743BFAB_c0189487-ebe7-1102-4d318fa130d7859d.png
GEO:45.2603424836;-111.302835277
X-APPLE-STRUCTURED-LOCATION;VALUE=URI;X-ADDRESS=Moving Mountains 245 Town Center Ave #1A Big Sky MT 59716 United States;X-APPLE-RADIUS=500;X-TITLE=245 Town Center Ave #1A:geo:-111.302835277,45.2603424836
END:VEVENT
BEGIN:VEVENT
DTSTART;TZID=America/Denver:20250730T120000
DTEND;TZID=America/Denver:20250730T140000
DTSTAMP:20260423T022210
CREATED:20250617T112641Z
LAST-MODIFIED:20250617T211627Z
UID:10002396-1753876800-1753884000@www.bigskytowncenter.com
SUMMARY:BASE: Community Yoga
DESCRIPTION:Join BSCO\, Santosha\, and Gourmet Gals for the summer community yoga series in Len Hill Park.  Enjoy yoga in the park followed by a delicious light lunch every Wednesday at 12:15 p.m. June 25- August 27. Classes are donation-based and open to the community\, no BASE pass is required.  100% of the donations will benefit Lone Peak Veterinary Hospital and Riley’s Urgent Fund for Friends to help animals in need.
URL:https://www.bigskytowncenter.com/event/base-community-yoga/2025-07-30/
LOCATION:Len Hill Park\, 285 Simkins Dr.\, Big Sky\, MT\, 59716\, United States
CATEGORIES:Community,Culture,Education,Entertainment,Sports,Health,Outdoor
ATTACH;FMTTYPE=image/png:https://www.bigskytowncenter.com/wp-content/uploads/2025/05/summer-yoga-new.png
ORGANIZER;CN="Big Sky Community Organization":MAILTO:bsco@bsco.org
GEO:45.2593603797;-111.30964739
X-APPLE-STRUCTURED-LOCATION;VALUE=URI;X-ADDRESS=Len Hill Park 285 Simkins Dr. Big Sky MT 59716 United States;X-APPLE-RADIUS=500;X-TITLE=285 Simkins Dr.:geo:-111.30964739,45.2593603797
END:VEVENT
BEGIN:VEVENT
DTSTART;TZID=America/Denver:20250730T150000
DTEND;TZID=America/Denver:20250730T170000
DTSTAMP:20260423T022210
CREATED:20250702T000158Z
LAST-MODIFIED:20250702T000304Z
UID:10002432-1753887600-1753894800@www.bigskytowncenter.com
SUMMARY:Big Sky Medical Center: Cancer Support Community of MT - Stronger than Cancer BBQ
DESCRIPTION:Let’s come together for an evening of food\, fun\, and community to celebrate the strength that comes in solidarity! Join us in Big Sky to connect with other families and individuals impacted by cancer and remind one another that you’re never alone.
URL:https://www.bigskytowncenter.com/event/big-sky-medical-center-cancer-support-community-of-mt-stronger-than-cancer-bbq/
LOCATION:Big Sky Medical Center\, 334 Town Center Ave.\, Big Sky\, MT\, 59716\, United States
CATEGORIES:Community,Education,Health,Outdoor
ATTACH;FMTTYPE=image/png:https://www.bigskytowncenter.com/wp-content/uploads/2025/07/Screenshot-2025-07-01-at-6.02.21 PM.png
ORGANIZER;CN="Cancer Support Community of MT":MAILTO:info@cancersupportmontana.org
GEO:45.2606418939;-111.30096139
X-APPLE-STRUCTURED-LOCATION;VALUE=URI;X-ADDRESS=Big Sky Medical Center 334 Town Center Ave. Big Sky MT 59716 United States;X-APPLE-RADIUS=500;X-TITLE=334 Town Center Ave.:geo:-111.30096139,45.2606418939
END:VEVENT
BEGIN:VEVENT
DTSTART;TZID=America/Denver:20250730T170000
DTEND;TZID=America/Denver:20250730T200000
DTSTAMP:20260423T022210
CREATED:20250211T215806Z
LAST-MODIFIED:20250923T210137Z
UID:10002102-1753894800-1753905600@www.bigskytowncenter.com
SUMMARY:Big Sky Farmers Market
DESCRIPTION:The Big Sky Summer Farmers Market is held every Wednesday June-Septemberfrom from 5:00 – 8:00pm at Fire Pit Park\, down Town Center Ave. and into the Town Center Plaza at the Town Center. Every year vendors\, including local/regional farmers\, professional artisans\, young artists/entrepreneurs\, and community organizations come to Big Sky with a goal of helping to foster and maintain a market that is true to our Big Sky mountain culture. \nThe Fall Market Fall runs every Wednesday in September at the Town Center Plaza with a focus on the Fall harvest and seasonal supplies by local Big Sky and South West Montanan farmers and artisans. Visit the all-new Big Sky Farmers Market website HERE.
URL:https://www.bigskytowncenter.com/event/big-sky-farmers-market/2025-07-30/
LOCATION:Town Center\, 33 Lone Peak Drive\, Big Sky\, MT\, 59716\, United States
CATEGORIES:Community,Culture,Entertainment,Health,Outdoor
ATTACH;FMTTYPE=image/png:https://www.bigskytowncenter.com/wp-content/uploads/2024/03/BigSkyFarmersMarket_logo_600px.png
END:VEVENT
BEGIN:VEVENT
DTSTART;TZID=America/Denver:20250730T170000
DTEND;TZID=America/Denver:20250730T200000
DTSTAMP:20260423T022210
CREATED:20250715T192141Z
LAST-MODIFIED:20250715T192141Z
UID:10002490-1753894800-1753905600@www.bigskytowncenter.com
SUMMARY:Tips Up: Robby & Andy Duo
DESCRIPTION:Robby & Andy Duo is a Big Sky-based collaboration between local multi-instrumentalists Robby Hutto and Andy Johnson. With a blend of acoustic textures\, tight musicianship\, and relaxed on-stage chemistry\, they deliver a set packed with fun covers and cool originals. From soulful sing-alongs to stripped-down roots rock\, this duo brings a heartfelt\, local feel to every performance-and always keeps the crowd engaged with familiar favorites and fresh sounds alike.
URL:https://www.bigskytowncenter.com/event/tips-up-robby-andy-duo/
LOCATION:Tips Up\, 76 Town Center Avenue\, Big Sky\, MT\, 59716\, United States
CATEGORIES:Entertainment
ATTACH;FMTTYPE=image/jpeg:https://www.bigskytowncenter.com/wp-content/uploads/2025/07/3518476ce48f29bf7da4593f50aaafc4.jpg
END:VEVENT
BEGIN:VEVENT
DTSTART;TZID=America/Denver:20250730T190000
DTEND;TZID=America/Denver:20250730T210000
DTSTAMP:20260423T022210
CREATED:20250716T163048Z
LAST-MODIFIED:20260326T150538Z
UID:10002499-1753902000-1753909200@www.bigskytowncenter.com
SUMMARY:The Waypoint: Trivia Night
DESCRIPTION:Join us every Wednesday for trivia starting at 7pm
URL:https://www.bigskytowncenter.com/event/the-waypoint-trivia-night-3/2025-07-30/
LOCATION:The Waypoint\, 50 Ousel Falls Road\, Big Sky\, MT\, 59716\, United States
CATEGORIES:Entertainment
ATTACH;FMTTYPE=image/jpeg:https://www.bigskytowncenter.com/wp-content/uploads/2025/07/TRIVIA.jpg
END:VEVENT
BEGIN:VEVENT
DTSTART;TZID=America/Denver:20250730T200000
DTEND;TZID=America/Denver:20250730T220000
DTSTAMP:20260423T022210
CREATED:20250715T190937Z
LAST-MODIFIED:20250715T192043Z
UID:10002489-1753905600-1753912800@www.bigskytowncenter.com
SUMMARY:Tips Up: Kailey Marie Band
DESCRIPTION:Kailey Marie is a Dillon\, Montana native whose music is as bold and dynamic as the landscapes she grew up in. A self-described “cosmic cowgirl\,” she brings a fierce blend of old-time outlaw country\, hip hop rhythms\, blues\, and soul to every performance. With a voice that’s equal parts sweet and rebellious-often compared to Janis Joplin and Dolly Parton-Kailey creates a sound that’s deeply rooted yet undeniably fresh. As a multi-instrumentalist and singer/songwriter\, her electrifying stage presence and authentic delivery make each show a standout moment at Tips Up. \n\nfacebook.com/kayli.smith.351\nyoutube.com/@KaileyMarieMusic\ninstagram.com/kaileymarie.mt
URL:https://www.bigskytowncenter.com/event/tips-up-kailey-marie-band/2025-07-30/
LOCATION:Tips Up\, 76 Town Center Avenue\, Big Sky\, MT\, 59716\, United States
CATEGORIES:Entertainment
ATTACH;FMTTYPE=image/jpeg:https://www.bigskytowncenter.com/wp-content/uploads/2025/07/cdd3d764b272e9e65a0ef7cc52b27fe2.jpg
END:VEVENT
END:VCALENDAR