BEGIN:VCALENDAR
VERSION:2.0
PRODID:-//Big Sky Town Center - ECPv6.7.0//NONSGML v1.0//EN
CALSCALE:GREGORIAN
METHOD:PUBLISH
X-WR-CALNAME:Big Sky Town Center
X-ORIGINAL-URL:https://www.bigskytowncenter.com
X-WR-CALDESC:Events for Big Sky Town Center
REFRESH-INTERVAL;VALUE=DURATION:PT1H
X-Robots-Tag:noindex
X-PUBLISHED-TTL:PT1H
BEGIN:VTIMEZONE
TZID:America/Denver
BEGIN:DAYLIGHT
TZOFFSETFROM:-0700
TZOFFSETTO:-0600
TZNAME:MDT
DTSTART:20250309T090000
END:DAYLIGHT
BEGIN:STANDARD
TZOFFSETFROM:-0600
TZOFFSETTO:-0700
TZNAME:MST
DTSTART:20251102T080000
END:STANDARD
END:VTIMEZONE
BEGIN:VEVENT
DTSTART;VALUE=DATE:20250501
DTEND;VALUE=DATE:20250502
DTSTAMP:20260421T062757
CREATED:20250428T212731Z
LAST-MODIFIED:20250428T212731Z
UID:10002301-1746057600-1746143999@www.bigskytowncenter.com
SUMMARY:Big Sky Artists' Studio & Gallery: Spring Welcome! New Work from the Collective Members
DESCRIPTION:As we transition into May we WELCOME SPRING\, featuring new work by the many members of the Big Sky Artists Collective! Whether it be paintings\, photography\, or mosaics – there’s a lot of new and original work to see. \nEven though it’s the off season\, YES\, we will be hosting hosting our FIRST FRIDAY evening on Friday May 2 from 5 – 7PM. We welcome locals and visitors to come by for sips and bits and an opportunity to meet and support the artists who make up the Big Sky Artists Collective. \nThe Gallery is open daily from 11 – 5PM\, (closed Tuesdays and Wednesdays the first three weeks of May.)
URL:https://www.bigskytowncenter.com/event/big-sky-artists-studio-gallery-spring-welcome-new-work-from-the-collective-members/
LOCATION:Big Sky Artists’ Studio & Gallery\, 88 Ousel Falls Road\, Big Sky\, MT\, 59716\, United States
CATEGORIES:Community,Culture,Education
ATTACH;FMTTYPE=image/png:https://www.bigskytowncenter.com/wp-content/uploads/2025/04/Screenshot-2025-04-28-at-3.26.00 PM.png
ORGANIZER;CN="Big Sky Artists Collective":MAILTO:bigskyartistscollective@gmail.com
END:VEVENT
BEGIN:VEVENT
DTSTART;TZID=America/Denver:20250501T170000
DTEND;TZID=America/Denver:20250501T190000
DTSTAMP:20260421T062758
CREATED:20241231T200142Z
LAST-MODIFIED:20250313T173622Z
UID:10002271-1746118800-1746126000@www.bigskytowncenter.com
SUMMARY:Block 3: Wes Urbaniak
DESCRIPTION:Wes Urbaniak and the Mountain Folk is a genre bending band\, but the roots always pull up like folk music and continues to progress through the simplicity of strings\, harmonies\, and foundational lyrics.
URL:https://www.bigskytowncenter.com/event/block-3-wes-urbaniak/2025-05-01/
LOCATION:Block 3 Kitchen & Bar\, 145 Town Center Ave.\, Big Sky\, MT\, 59716\, United States
CATEGORIES:Entertainment
END:VEVENT
BEGIN:VEVENT
DTSTART;TZID=America/Denver:20250501T180000
DTEND;TZID=America/Denver:20250501T193000
DTSTAMP:20260421T062758
CREATED:20250422T190859Z
LAST-MODIFIED:20250422T190859Z
UID:10002289-1746122400-1746127800@www.bigskytowncenter.com
SUMMARY:Big Sky Center for the Arts: Give Big Big Sky
DESCRIPTION:
URL:https://www.bigskytowncenter.com/event/big-sky-center-for-the-arts-give-big-big-sky/
LOCATION:Arts Council of Big Sky\, 77 Lone Peak Drive\, Big Sky\, MT\, 59716\, United States
ATTACH;FMTTYPE=image/jpeg:https://www.bigskytowncenter.com/wp-content/uploads/2025/04/489759455_1188060736533863_3958912326693403615_n.jpg
ORGANIZER;CN="Arts Council of Big Sky":MAILTO:brian@bigskyarts.org
GEO:45.2599405391;-111.310877036
X-APPLE-STRUCTURED-LOCATION;VALUE=URI;X-ADDRESS=Arts Council of Big Sky 77 Lone Peak Drive Big Sky MT 59716 United States;X-APPLE-RADIUS=500;X-TITLE=77 Lone Peak Drive:geo:-111.310877036,45.2599405391
END:VEVENT
END:VCALENDAR