BEGIN:VCALENDAR
VERSION:2.0
PRODID:-//Big Sky Town Center - ECPv6.7.0//NONSGML v1.0//EN
CALSCALE:GREGORIAN
METHOD:PUBLISH
X-WR-CALNAME:Big Sky Town Center
X-ORIGINAL-URL:https://www.bigskytowncenter.com
X-WR-CALDESC:Events for Big Sky Town Center
REFRESH-INTERVAL;VALUE=DURATION:PT1H
X-Robots-Tag:noindex
X-PUBLISHED-TTL:PT1H
BEGIN:VTIMEZONE
TZID:America/Denver
BEGIN:DAYLIGHT
TZOFFSETFROM:-0700
TZOFFSETTO:-0600
TZNAME:MDT
DTSTART:20250309T090000
END:DAYLIGHT
BEGIN:STANDARD
TZOFFSETFROM:-0600
TZOFFSETTO:-0700
TZNAME:MST
DTSTART:20251102T080000
END:STANDARD
END:VTIMEZONE
BEGIN:VEVENT
DTSTART;TZID=America/Denver:20250426T190000
DTEND;TZID=America/Denver:20250426T233000
DTSTAMP:20260420T054010
CREATED:20250312T204406Z
LAST-MODIFIED:20250312T204406Z
UID:10002269-1745694000-1745710200@www.bigskytowncenter.com
SUMMARY:The Waypoint: End of Season Party with The Housewives of St. John
DESCRIPTION:Celebrate the end of another great Winter Season with us! \nLive music by The Housewives of St John.
URL:https://www.bigskytowncenter.com/event/the-waypoint-end-of-season-party-with-the-housewives-of-st-john/
LOCATION:The Waypoint\, 50 Ousel Falls Road\, Big Sky\, MT\, 59716\, United States
CATEGORIES:Entertainment,Outdoor
END:VEVENT
END:VCALENDAR