BEGIN:VCALENDAR
VERSION:2.0
PRODID:-//Big Sky Town Center - ECPv6.7.0//NONSGML v1.0//EN
CALSCALE:GREGORIAN
METHOD:PUBLISH
X-ORIGINAL-URL:https://www.bigskytowncenter.com
X-WR-CALDESC:Events for Big Sky Town Center
REFRESH-INTERVAL;VALUE=DURATION:PT1H
X-Robots-Tag:noindex
X-PUBLISHED-TTL:PT1H
BEGIN:VTIMEZONE
TZID:America/Denver
BEGIN:DAYLIGHT
TZOFFSETFROM:-0700
TZOFFSETTO:-0600
TZNAME:MDT
DTSTART:20250309T090000
END:DAYLIGHT
BEGIN:STANDARD
TZOFFSETFROM:-0600
TZOFFSETTO:-0700
TZNAME:MST
DTSTART:20251102T080000
END:STANDARD
END:VTIMEZONE
BEGIN:VEVENT
DTSTART;TZID=America/Denver:20250219T120000
DTEND;TZID=America/Denver:20250219T130000
DTSTAMP:20260423T063438
CREATED:20250102T182000Z
LAST-MODIFIED:20260102T201542Z
UID:10001801-1739966400-1739970000@www.bigskytowncenter.com
SUMMARY:Moving Mountains: MTN Mindful
DESCRIPTION:MTN Mindful is a yoga class focused on the connection between mind\, body and breath. This practice supports your nervous system while also building mobility\, strength\, and balance. Please bring your own mat if you are able and meet at Moving Mountains gym at least 5 min prior to the start of class!
URL:https://www.bigskytowncenter.com/event/moving-mountains-mtn-mindful/2025-02-19/
LOCATION:Moving Mountains\, 245 Town Center Ave #1A\, Big Sky\, MT\, 59716\, United States
CATEGORIES:Community,Education,Sports,Health,Outdoor
ATTACH;FMTTYPE=image/png:https://www.bigskytowncenter.com/wp-content/uploads/2025/01/Copy-Of-Yoga-Poster-Winter-Landscape-1080-x-800-px-_C009DCCE-A3ED-3156-03C1A8AB1743BFAB_c0189487-ebe7-1102-4d318fa130d7859d.png
GEO:45.2603424836;-111.302835277
X-APPLE-STRUCTURED-LOCATION;VALUE=URI;X-ADDRESS=Moving Mountains 245 Town Center Ave #1A Big Sky MT 59716 United States;X-APPLE-RADIUS=500;X-TITLE=245 Town Center Ave #1A:geo:-111.302835277,45.2603424836
END:VEVENT
BEGIN:VEVENT
DTSTART;TZID=America/Denver:20250219T163000
DTEND;TZID=America/Denver:20250219T183000
DTSTAMP:20260423T063438
CREATED:20241231T200440Z
LAST-MODIFIED:20250303T212855Z
UID:10002007-1739982600-1739989800@www.bigskytowncenter.com
SUMMARY:Block 3: Chandler Huntley
DESCRIPTION:South Carolina native W.C. Huntley is a singer/songwriter & guitarist currently based in Bozeman\, Montana. By combining his Travis-picking guitar style and soulful country voice\, W.C. provides the listener with a unique take on traditional Country & Western music.
URL:https://www.bigskytowncenter.com/event/block-3-chandler-huntley-2/2025-02-19/
LOCATION:Block 3 Kitchen & Bar\, 145 Town Center Ave.\, Big Sky\, MT\, 59716\, United States
CATEGORIES:Entertainment
END:VEVENT
BEGIN:VEVENT
DTSTART;TZID=America/Denver:20250219T183000
DTEND;TZID=America/Denver:20250219T193000
DTSTAMP:20260423T063438
CREATED:20250127T233245Z
LAST-MODIFIED:20250128T002041Z
UID:10002029-1739989800-1739993400@www.bigskytowncenter.com
SUMMARY:Wellness In Action: Mindfulness Sitting Group
DESCRIPTION:A 5-week mindfulness sitting group (Free).  Set aside time to chill and recharge. \nFor more info: info@jacquelynrinaldi.com or 702-610-2030
URL:https://www.bigskytowncenter.com/event/wellness-in-action-mindfulness-sitting-group/2025-02-19/
LOCATION:Wellness In Action\, 47855 Gallatin Road\, Big Sky\, MT\, 59716\, United States
CATEGORIES:Community,Education,Health
ATTACH;FMTTYPE=image/png:https://www.bigskytowncenter.com/wp-content/uploads/2025/01/Screenshot-2025-01-27-at-4.31.44 PM.png
GEO:45.2630918445;-111.254268215
X-APPLE-STRUCTURED-LOCATION;VALUE=URI;X-ADDRESS=Wellness In Action 47855 Gallatin Road Big Sky MT 59716 United States;X-APPLE-RADIUS=500;X-TITLE=47855 Gallatin Road:geo:-111.254268215,45.2630918445
END:VEVENT
BEGIN:VEVENT
DTSTART;TZID=America/Denver:20250219T190000
DTEND;TZID=America/Denver:20250219T210000
DTSTAMP:20260423T063438
CREATED:20241002T215026Z
LAST-MODIFIED:20250415T175729Z
UID:10001978-1739991600-1739998800@www.bigskytowncenter.com
SUMMARY:The Waypoint: Trivia Night
DESCRIPTION:Join us every Wednesday for trivia starting at 7pm
URL:https://www.bigskytowncenter.com/event/the-waypoint-trivia-night-2/2025-02-19/
LOCATION:The Waypoint\, 50 Ousel Falls Road\, Big Sky\, MT\, 59716\, United States
CATEGORIES:Entertainment
END:VEVENT
BEGIN:VEVENT
DTSTART;TZID=America/Denver:20250219T193000
DTEND;TZID=America/Denver:20250219T210000
DTSTAMP:20260423T063438
CREATED:20241219T164323Z
LAST-MODIFIED:20241219T164323Z
UID:10001728-1739993400-1739998800@www.bigskytowncenter.com
SUMMARY:Warren Miller Performing Arts Center: International Guitar Night
DESCRIPTION:International Guitar Night is the world’s premier\, and longest running\, mobile guitar festival.\nInternational Guitar Night 2025 \nCelebrating 25 years\, International Guitar Night returns with a fresh cast of world-class guitar masters\, bringing its dynamic mobile festival back to Big Sky. Audiences across the globe are captivated by its incredible solos\, duets\, and quartets that showcase the boundless virtuosity and diversity of the acoustic guitar. \nA Global Cast of Guitar Luminaries\nThis year’s lineup features an inspiring selection of international guitar talent\, each bringing their unique artistry and style to the stage: \n\nLulo Reinhardt (Germany): A grand-nephew of jazz legend Django Reinhardt\, Lulo combines Gypsy Swing with Latin rhythms to create his signature Latin Swing style.\nAlexandra Whittingham (Britain): Classically trained\, Whittingham draws audiences into her world of 19th-century European repertoire\, highlighting lesser-known composers alongside Romantic classics.\nNiwel Tsumbu (Democratic Republic of the Congo): Blending African\, Classical\, and Jazz influences\, Tsumbu’s soulful style draws on Congolese Soukous and the techniques of guitar icons like Paco de Lucia.\nSönke Meinen (Germany): Known for his innovative approach\, Meinen combines technical mastery with captivating performances\, making acoustic guitar music original\, handmade\, and unforgettable.\n\n\nAn evening with International Guitar Night is a musical journey that spans genres and borders. More than just a concert\, this is a celebration of global guitar traditions\, reimagined for today’s audiences by some of the most skilled players from around the world. \nCLICK HERE TO LEARN MORE internationalguitarnight.com/ \nPurchase your tickets HERE \nFor more information on upcoming WMPAC shows\, please visit their website HERE
URL:https://www.bigskytowncenter.com/event/warren-miller-performing-arts-center-international-guitar-night/
LOCATION:Warren Miller Performing Arts Center\, 45465 Gallatin Road\, Gallatin Gateway\, MT\, 59730\, United States
CATEGORIES:Community,Culture,Entertainment
ATTACH;FMTTYPE=image/png:https://www.bigskytowncenter.com/wp-content/uploads/2024/12/International-Guitar-NIght-2.png
GEO:45.2293888345;-111.25157895
X-APPLE-STRUCTURED-LOCATION;VALUE=URI;X-ADDRESS=Warren Miller Performing Arts Center 45465 Gallatin Road Gallatin Gateway MT 59730 United States;X-APPLE-RADIUS=500;X-TITLE=45465 Gallatin Road:geo:-111.25157895,45.2293888345
END:VEVENT
END:VCALENDAR